BEGIN:VCALENDAR
VERSION:2.0
PRODID:-//Woodland Dunes Nature Center &amp; Preserve - ECPv6.15.20//NONSGML v1.0//EN
CALSCALE:GREGORIAN
METHOD:PUBLISH
X-WR-CALNAME:Woodland Dunes Nature Center &amp; Preserve
X-ORIGINAL-URL:https://www.woodlanddunes.org
X-WR-CALDESC:Events for Woodland Dunes Nature Center &amp; Preserve
REFRESH-INTERVAL;VALUE=DURATION:PT1H
X-Robots-Tag:noindex
X-PUBLISHED-TTL:PT1H
BEGIN:VTIMEZONE
TZID:America/Chicago
BEGIN:DAYLIGHT
TZOFFSETFROM:-0600
TZOFFSETTO:-0500
TZNAME:CDT
DTSTART:20240310T080000
END:DAYLIGHT
BEGIN:STANDARD
TZOFFSETFROM:-0500
TZOFFSETTO:-0600
TZNAME:CST
DTSTART:20241103T070000
END:STANDARD
BEGIN:DAYLIGHT
TZOFFSETFROM:-0600
TZOFFSETTO:-0500
TZNAME:CDT
DTSTART:20250309T080000
END:DAYLIGHT
BEGIN:STANDARD
TZOFFSETFROM:-0500
TZOFFSETTO:-0600
TZNAME:CST
DTSTART:20251102T070000
END:STANDARD
BEGIN:DAYLIGHT
TZOFFSETFROM:-0600
TZOFFSETTO:-0500
TZNAME:CDT
DTSTART:20260308T080000
END:DAYLIGHT
BEGIN:STANDARD
TZOFFSETFROM:-0500
TZOFFSETTO:-0600
TZNAME:CST
DTSTART:20261101T070000
END:STANDARD
END:VTIMEZONE
BEGIN:VEVENT
DTSTART;TZID=America/Chicago:20250408T090000
DTEND;TZID=America/Chicago:20250408T101500
DTSTAMP:20260421T062850
CREATED:20250210T184436Z
LAST-MODIFIED:20250210T184436Z
UID:12208-1744102800-1744107300@www.woodlanddunes.org
SUMMARY:Birding by Ear for Beginners
DESCRIPTION:Sliding scale fee of $1-$10 per person \nListening to a birds’ song is a helpful tool for identification and it’s a rewarding way to expand your bird knowledge. Learn tips and tricks to identify the sounds of some of the common birds of the area. Resources will be shared and we’ll take a short bird walk to practice. Registration required by Friday\, April 4th. Email Jess at jessicaj@woodlanddunes.org or call 920-793-4007. Sponsored by the Winston Group.
URL:https://www.woodlanddunes.org/calendar/birding-by-ear-for-beginners/
CATEGORIES:Adult Programs
END:VEVENT
END:VCALENDAR