BEGIN:VCALENDAR
VERSION:2.0
PRODID:-//Woodland Dunes Nature Center &amp; Preserve - ECPv6.15.20//NONSGML v1.0//EN
CALSCALE:GREGORIAN
METHOD:PUBLISH
X-ORIGINAL-URL:https://www.woodlanddunes.org
X-WR-CALDESC:Events for Woodland Dunes Nature Center &amp; Preserve
REFRESH-INTERVAL;VALUE=DURATION:PT1H
X-Robots-Tag:noindex
X-PUBLISHED-TTL:PT1H
BEGIN:VTIMEZONE
TZID:America/Chicago
BEGIN:DAYLIGHT
TZOFFSETFROM:-0600
TZOFFSETTO:-0500
TZNAME:CDT
DTSTART:20240310T080000
END:DAYLIGHT
BEGIN:STANDARD
TZOFFSETFROM:-0500
TZOFFSETTO:-0600
TZNAME:CST
DTSTART:20241103T070000
END:STANDARD
BEGIN:DAYLIGHT
TZOFFSETFROM:-0600
TZOFFSETTO:-0500
TZNAME:CDT
DTSTART:20250309T080000
END:DAYLIGHT
BEGIN:STANDARD
TZOFFSETFROM:-0500
TZOFFSETTO:-0600
TZNAME:CST
DTSTART:20251102T070000
END:STANDARD
BEGIN:DAYLIGHT
TZOFFSETFROM:-0600
TZOFFSETTO:-0500
TZNAME:CDT
DTSTART:20260308T080000
END:DAYLIGHT
BEGIN:STANDARD
TZOFFSETFROM:-0500
TZOFFSETTO:-0600
TZNAME:CST
DTSTART:20261101T070000
END:STANDARD
END:VTIMEZONE
BEGIN:VEVENT
DTSTART;VALUE=DATE:20250419
DTEND;VALUE=DATE:20250420
DTSTAMP:20260421T080604
CREATED:20250211T191930Z
LAST-MODIFIED:20250211T191930Z
UID:12346-1745020800-1745107199@www.woodlanddunes.org
SUMMARY:Name That Baby Trail
DESCRIPTION:Do you know what a baby hawk is called? How about a baby fish? Informational signs will be posted on the first part of Willow Trail and Goldenrod Loop. Bring the whole family for a walk outside and learn some new baby names. Trail is available from dawn to dusk from April 18th-April 30th.
URL:https://www.woodlanddunes.org/calendar/name-that-baby-trail-2/
CATEGORIES:Children's Programs
END:VEVENT
BEGIN:VEVENT
DTSTART;TZID=America/Chicago:20250419T080000
DTEND;TZID=America/Chicago:20250419T090000
DTSTAMP:20260421T080604
CREATED:20250210T195319Z
LAST-MODIFIED:20250210T195319Z
UID:12212-1745049600-1745053200@www.woodlanddunes.org
SUMMARY:Saturday Morning Bird Walk
DESCRIPTION:Join local birder\, Joel Trick\, for a guided bird walk along the trails at Woodland Dunes. Look and listen for migrants and resident birds during the spring migration. Bring your binoculars and register by Thursday\, April 17th. Space is limited\, so register early! Email Jess at jessicaj@woodlanddunes.org or call 920-793-4007. The walk will last at least one hour\, but may be longer if the birding is good. Program is weather dependent. Sponsored by The Winston Group.
URL:https://www.woodlanddunes.org/calendar/saturday-morning-bird-walk/
CATEGORIES:Guided Walks
END:VEVENT
END:VCALENDAR