BEGIN:VCALENDAR
VERSION:2.0
PRODID:-//Woodland Dunes Nature Center &amp; Preserve - ECPv6.15.20//NONSGML v1.0//EN
CALSCALE:GREGORIAN
METHOD:PUBLISH
X-WR-CALNAME:Woodland Dunes Nature Center &amp; Preserve
X-ORIGINAL-URL:https://www.woodlanddunes.org
X-WR-CALDESC:Events for Woodland Dunes Nature Center &amp; Preserve
REFRESH-INTERVAL;VALUE=DURATION:PT1H
X-Robots-Tag:noindex
X-PUBLISHED-TTL:PT1H
BEGIN:VTIMEZONE
TZID:America/Chicago
BEGIN:DAYLIGHT
TZOFFSETFROM:-0600
TZOFFSETTO:-0500
TZNAME:CDT
DTSTART:20240310T080000
END:DAYLIGHT
BEGIN:STANDARD
TZOFFSETFROM:-0500
TZOFFSETTO:-0600
TZNAME:CST
DTSTART:20241103T070000
END:STANDARD
BEGIN:DAYLIGHT
TZOFFSETFROM:-0600
TZOFFSETTO:-0500
TZNAME:CDT
DTSTART:20250309T080000
END:DAYLIGHT
BEGIN:STANDARD
TZOFFSETFROM:-0500
TZOFFSETTO:-0600
TZNAME:CST
DTSTART:20251102T070000
END:STANDARD
BEGIN:DAYLIGHT
TZOFFSETFROM:-0600
TZOFFSETTO:-0500
TZNAME:CDT
DTSTART:20260308T080000
END:DAYLIGHT
BEGIN:STANDARD
TZOFFSETFROM:-0500
TZOFFSETTO:-0600
TZNAME:CST
DTSTART:20261101T070000
END:STANDARD
END:VTIMEZONE
BEGIN:VEVENT
DTSTART;VALUE=DATE:20250423
DTEND;VALUE=DATE:20250424
DTSTAMP:20260421T063024
CREATED:20250211T192106Z
LAST-MODIFIED:20250211T192106Z
UID:12354-1745366400-1745452799@www.woodlanddunes.org
SUMMARY:Name That Baby Trail
DESCRIPTION:Do you know what a baby hawk is called? How about a baby fish? Informational signs will be posted on the first part of Willow Trail and Goldenrod Loop. Bring the whole family for a walk outside and learn some new baby names. Trail is available from dawn to dusk from April 18th-April 30th.
URL:https://www.woodlanddunes.org/calendar/name-that-baby-trail-6/
CATEGORIES:Children's Programs
END:VEVENT
BEGIN:VEVENT
DTSTART;TZID=America/Chicago:20250423T120000
DTEND;TZID=America/Chicago:20250423T130000
DTSTAMP:20260421T063024
CREATED:20250331T195312Z
LAST-MODIFIED:20250331T195312Z
UID:12585-1745409600-1745413200@www.woodlanddunes.org
SUMMARY:Dunes' Digest: Everything Under an Inch
DESCRIPTION:Sliding scale fee of $1-$10 per person (collected at check). Bring a lunch and the Dunes will provide coffee\, tea\, water and a sweet treat. To register\, email Jess at jessicaj@woodlanddunes.org or call 920-793-4007. \nJoin Naturalist Matt Welter as he shows photos of things you might have missed because of their size. From Yellow Fuzz Cone Slime to Fairy Wasps\, this program will open your eyes to some of the most amazing and miniscule things you might see at Woodland Dunes and other natural areas. Bring your own lunch and we will provide coffee\, tea\, water and a sweet treat. Registration is appreciated by Monday\, April 21st.
URL:https://www.woodlanddunes.org/calendar/dunes-digest-everything-under-an-inch/
CATEGORIES:Adult Programs
END:VEVENT
END:VCALENDAR