BEGIN:VCALENDAR
VERSION:2.0
PRODID:-//Woodland Dunes Nature Center &amp; Preserve - ECPv6.15.20//NONSGML v1.0//EN
CALSCALE:GREGORIAN
METHOD:PUBLISH
X-WR-CALNAME:Woodland Dunes Nature Center &amp; Preserve
X-ORIGINAL-URL:https://www.woodlanddunes.org
X-WR-CALDESC:Events for Woodland Dunes Nature Center &amp; Preserve
REFRESH-INTERVAL;VALUE=DURATION:PT1H
X-Robots-Tag:noindex
X-PUBLISHED-TTL:PT1H
BEGIN:VTIMEZONE
TZID:America/Chicago
BEGIN:DAYLIGHT
TZOFFSETFROM:-0600
TZOFFSETTO:-0500
TZNAME:CDT
DTSTART:20240310T080000
END:DAYLIGHT
BEGIN:STANDARD
TZOFFSETFROM:-0500
TZOFFSETTO:-0600
TZNAME:CST
DTSTART:20241103T070000
END:STANDARD
BEGIN:DAYLIGHT
TZOFFSETFROM:-0600
TZOFFSETTO:-0500
TZNAME:CDT
DTSTART:20250309T080000
END:DAYLIGHT
BEGIN:STANDARD
TZOFFSETFROM:-0500
TZOFFSETTO:-0600
TZNAME:CST
DTSTART:20251102T070000
END:STANDARD
BEGIN:DAYLIGHT
TZOFFSETFROM:-0600
TZOFFSETTO:-0500
TZNAME:CDT
DTSTART:20260308T080000
END:DAYLIGHT
BEGIN:STANDARD
TZOFFSETFROM:-0500
TZOFFSETTO:-0600
TZNAME:CST
DTSTART:20261101T070000
END:STANDARD
END:VTIMEZONE
BEGIN:VEVENT
DTSTART;TZID=America/Chicago:20250508T090000
DTEND;TZID=America/Chicago:20250508T101500
DTSTAMP:20260421T044748
CREATED:20250210T182652Z
LAST-MODIFIED:20250210T183102Z
UID:12189-1746694800-1746699300@www.woodlanddunes.org
SUMMARY:Raising a Wild Child Salamanders Session 1
DESCRIPTION:Members: $2/child \nNon-members: $3/child \nExperience the wonders of nature with your 2-5 year old through nature hikes\, play and guided activities. Help your child notice the natural world and ignite their curiosity! Children must be accompanied by an adult. Dress for the weather\, majority of the program takes place outdoors. Registration required by the Monday before each session\, space is limited. Unless otherwise stated\, registration is required for all programs. Please note the deadlines and program location. To register\, email Jess at jessicaj@woodlanddunes.org or call 920-793-4007.
URL:https://www.woodlanddunes.org/calendar/raising-a-wild-child-salamanders-session-1/
CATEGORIES:Children's Programs
END:VEVENT
BEGIN:VEVENT
DTSTART;TZID=America/Chicago:20250508T114500
DTEND;TZID=America/Chicago:20250508T120000
DTSTAMP:20260421T044748
CREATED:20250210T182749Z
LAST-MODIFIED:20250210T183047Z
UID:12191-1746704700-1746705600@www.woodlanddunes.org
SUMMARY:Raising a Wild Child Salamanders Session 2
DESCRIPTION:Members: $2/child \nNon-members: $3/child \nExperience the wonders of nature with your 2-5 year old through nature hikes\, play and guided activities. Help your child notice the natural world and ignite their curiosity! Children must be accompanied by an adult. Dress for the weather\, majority of the program takes place outdoors. Registration required by the Monday before each session\, space is limited. Unless otherwise stated\, registration is required for all programs. Please note the deadlines and program location. To register\, email Jess at jessicaj@woodlanddunes.org or call 920-793-4007.
URL:https://www.woodlanddunes.org/calendar/raising-a-wild-child-salamanders-session-2/
CATEGORIES:Children's Programs
END:VEVENT
BEGIN:VEVENT
DTSTART;TZID=America/Chicago:20250508T180000
DTEND;TZID=America/Chicago:20250508T190000
DTSTAMP:20260421T044748
CREATED:20250210T184603Z
LAST-MODIFIED:20250210T184603Z
UID:12210-1746727200-1746730800@www.woodlanddunes.org
SUMMARY:Frogs of Woodland Dunes
DESCRIPTION:Sliding scale fee of $1-$10 per person \nLearn how to identify the frog species that live at the Dunes by sight and sound. Then enjoy a short walk to practice your new skills. Registration required by Monday\, May 5th. Email Jess at jessicaj@woodlanddunes.org or call 920-793-4007. Sponsored by the Winston Group.
URL:https://www.woodlanddunes.org/calendar/frogs-of-woodland-dunes/
CATEGORIES:Adult Programs
END:VEVENT
END:VCALENDAR