BEGIN:VCALENDAR
VERSION:2.0
PRODID:-//Woodland Dunes Nature Center &amp; Preserve - ECPv6.15.20//NONSGML v1.0//EN
CALSCALE:GREGORIAN
METHOD:PUBLISH
X-ORIGINAL-URL:https://www.woodlanddunes.org
X-WR-CALDESC:Events for Woodland Dunes Nature Center &amp; Preserve
REFRESH-INTERVAL;VALUE=DURATION:PT1H
X-Robots-Tag:noindex
X-PUBLISHED-TTL:PT1H
BEGIN:VTIMEZONE
TZID:America/Chicago
BEGIN:DAYLIGHT
TZOFFSETFROM:-0600
TZOFFSETTO:-0500
TZNAME:CDT
DTSTART:20240310T080000
END:DAYLIGHT
BEGIN:STANDARD
TZOFFSETFROM:-0500
TZOFFSETTO:-0600
TZNAME:CST
DTSTART:20241103T070000
END:STANDARD
BEGIN:DAYLIGHT
TZOFFSETFROM:-0600
TZOFFSETTO:-0500
TZNAME:CDT
DTSTART:20250309T080000
END:DAYLIGHT
BEGIN:STANDARD
TZOFFSETFROM:-0500
TZOFFSETTO:-0600
TZNAME:CST
DTSTART:20251102T070000
END:STANDARD
BEGIN:DAYLIGHT
TZOFFSETFROM:-0600
TZOFFSETTO:-0500
TZNAME:CDT
DTSTART:20260308T080000
END:DAYLIGHT
BEGIN:STANDARD
TZOFFSETFROM:-0500
TZOFFSETTO:-0600
TZNAME:CST
DTSTART:20261101T070000
END:STANDARD
END:VTIMEZONE
BEGIN:VEVENT
DTSTART;TZID=America/Chicago:20250524T080000
DTEND;TZID=America/Chicago:20250524T090000
DTSTAMP:20260421T045646
CREATED:20250428T174555Z
LAST-MODIFIED:20250428T174555Z
UID:12709-1748073600-1748077200@www.woodlanddunes.org
SUMMARY:Saturday Morning Bird Walk
DESCRIPTION:Email Jess at jessicaj@woodlanddunes.org or call 920-793-4007 to register. \nJoin local birder\, Joel Trick\, for a guided bird walk along Cattail Trail. Look and listen for migrants and resident birds during the spring migration. Bring your binoculars and register by Thursday\, May 22nd. Space is limited. The walk will last about 1 hour\, but could be longer if the birding is good. Program is weather dependent. Sponsored by the Winston Group.
URL:https://www.woodlanddunes.org/calendar/saturday-morning-bird-walk-2/
CATEGORIES:Guided Walks
END:VEVENT
END:VCALENDAR