BEGIN:VCALENDAR
VERSION:2.0
PRODID:-//Woodland Dunes Nature Center &amp; Preserve - ECPv6.15.20//NONSGML v1.0//EN
CALSCALE:GREGORIAN
METHOD:PUBLISH
X-ORIGINAL-URL:https://www.woodlanddunes.org
X-WR-CALDESC:Events for Woodland Dunes Nature Center &amp; Preserve
REFRESH-INTERVAL;VALUE=DURATION:PT1H
X-Robots-Tag:noindex
X-PUBLISHED-TTL:PT1H
BEGIN:VTIMEZONE
TZID:America/Chicago
BEGIN:DAYLIGHT
TZOFFSETFROM:-0600
TZOFFSETTO:-0500
TZNAME:CDT
DTSTART:20240310T080000
END:DAYLIGHT
BEGIN:STANDARD
TZOFFSETFROM:-0500
TZOFFSETTO:-0600
TZNAME:CST
DTSTART:20241103T070000
END:STANDARD
BEGIN:DAYLIGHT
TZOFFSETFROM:-0600
TZOFFSETTO:-0500
TZNAME:CDT
DTSTART:20250309T080000
END:DAYLIGHT
BEGIN:STANDARD
TZOFFSETFROM:-0500
TZOFFSETTO:-0600
TZNAME:CST
DTSTART:20251102T070000
END:STANDARD
BEGIN:DAYLIGHT
TZOFFSETFROM:-0600
TZOFFSETTO:-0500
TZNAME:CDT
DTSTART:20260308T080000
END:DAYLIGHT
BEGIN:STANDARD
TZOFFSETFROM:-0500
TZOFFSETTO:-0600
TZNAME:CST
DTSTART:20261101T070000
END:STANDARD
END:VTIMEZONE
BEGIN:VEVENT
DTSTART;TZID=America/Chicago:20250813T090000
DTEND;TZID=America/Chicago:20250813T103000
DTSTAMP:20260421T123523
CREATED:20250428T225237Z
LAST-MODIFIED:20250428T231941Z
UID:12783-1755075600-1755081000@www.woodlanddunes.org
SUMMARY:Adult Learning Series - Ecological Contributions of Wetlands
DESCRIPTION:All programs in this series have a sliding scale fee of $3-$10 per person. This will be collected at check-in\, cash is preferred. Sponsored by the Winston Group and Next Era. \nThe aquatic plant and invertebrate communities of constructed wetlands\, like those use to catch and treat urban and agricultural runoff\, influence nutrient movement and support biodiversity. Learn about Dr. Jessica Warwick’s interdisciplinary work that investigates how novel combinations of native wetland plants interact with the calico crayfish\, a Wisconsin native\, to influence phosphorus uptake. Afterward\, you will sample from a wetland pond at Woodland dunes to learn some basic wetland invertebrate identification. Registration required by Monday\, August 11th. Email jessicaj@woodlanddunes.org or call 920-793-4007. \n 
URL:https://www.woodlanddunes.org/calendar/adult-learning-series-ecological-contributions-of-wetlands/
CATEGORIES:Adult Programs
END:VEVENT
END:VCALENDAR