BEGIN:VCALENDAR
VERSION:2.0
PRODID:-//Woodland Dunes Nature Center &amp; Preserve - ECPv6.15.20//NONSGML v1.0//EN
CALSCALE:GREGORIAN
METHOD:PUBLISH
X-WR-CALNAME:Woodland Dunes Nature Center &amp; Preserve
X-ORIGINAL-URL:https://www.woodlanddunes.org
X-WR-CALDESC:Events for Woodland Dunes Nature Center &amp; Preserve
REFRESH-INTERVAL;VALUE=DURATION:PT1H
X-Robots-Tag:noindex
X-PUBLISHED-TTL:PT1H
BEGIN:VTIMEZONE
TZID:America/Chicago
BEGIN:DAYLIGHT
TZOFFSETFROM:-0600
TZOFFSETTO:-0500
TZNAME:CDT
DTSTART:20240310T080000
END:DAYLIGHT
BEGIN:STANDARD
TZOFFSETFROM:-0500
TZOFFSETTO:-0600
TZNAME:CST
DTSTART:20241103T070000
END:STANDARD
BEGIN:DAYLIGHT
TZOFFSETFROM:-0600
TZOFFSETTO:-0500
TZNAME:CDT
DTSTART:20250309T080000
END:DAYLIGHT
BEGIN:STANDARD
TZOFFSETFROM:-0500
TZOFFSETTO:-0600
TZNAME:CST
DTSTART:20251102T070000
END:STANDARD
BEGIN:DAYLIGHT
TZOFFSETFROM:-0600
TZOFFSETTO:-0500
TZNAME:CDT
DTSTART:20260308T080000
END:DAYLIGHT
BEGIN:STANDARD
TZOFFSETFROM:-0500
TZOFFSETTO:-0600
TZNAME:CST
DTSTART:20261101T070000
END:STANDARD
END:VTIMEZONE
BEGIN:VEVENT
DTSTART;TZID=America/Chicago:20250814T090000
DTEND;TZID=America/Chicago:20250814T101500
DTSTAMP:20260421T123333
CREATED:20250428T222611Z
LAST-MODIFIED:20250811T161855Z
UID:12765-1755162000-1755166500@www.woodlanddunes.org
SUMMARY:CANCELLED: Raising a Wild Child -  Butterflies Session 1
DESCRIPTION:CANCELLED DUE TO LACK OF REGISTRATION  \nMembers: $2/child \nNon-members: $3/child \nExperience the wonders of nature with your 2-5 year old through nature hikes\, play and guided activities. Help your child notice the natural world and ignite their curiosity! Children must be accompanied by an adult\, older siblings welcome in summer. Dress for the weather\, majority of the program takes place outdoors. Registration required by the Monday before each session\, space is limited. Call 920-793-4007 or email jessicaj@woodlanddunes.org.
URL:https://www.woodlanddunes.org/calendar/raising-a-wild-child-butterflies-session-1/
CATEGORIES:Children's Programs
END:VEVENT
BEGIN:VEVENT
DTSTART;TZID=America/Chicago:20250814T104500
DTEND;TZID=America/Chicago:20250814T120000
DTSTAMP:20260421T123333
CREATED:20250428T222817Z
LAST-MODIFIED:20250428T222817Z
UID:12767-1755168300-1755172800@www.woodlanddunes.org
SUMMARY:Raising a Wild Child - Butterflies Session 2
DESCRIPTION:Members: $2/child \nNon-members: $3/child \nExperience the wonders of nature with your 2-5 year old through nature hikes\, play and guided activities. Help your child notice the natural world and ignite their curiosity! Children must be accompanied by an adult\, older siblings welcome in summer. Dress for the weather\, majority of the program takes place outdoors. Registration required by the Monday before each session\, space is limited. Call 920-793-4007 or email jessicaj@woodlanddunes.org.
URL:https://www.woodlanddunes.org/calendar/raising-a-wild-child-butterflies-session-2/
CATEGORIES:Children's Programs
END:VEVENT
BEGIN:VEVENT
DTSTART;TZID=America/Chicago:20250814T130000
DTEND;TZID=America/Chicago:20250814T140000
DTSTAMP:20260421T123333
CREATED:20250428T231451Z
LAST-MODIFIED:20250428T231826Z
UID:12793-1755176400-1755180000@www.woodlanddunes.org
SUMMARY:Guided Walks - Henry Wetland Hike
DESCRIPTION:Walk through the Henry Wetland Preserve while we look at what flowers\, pollinators\, and birds are out there on this day! \nMembers: Free \nNon-members: Sliding scale $3-$10/person \nJoin a staff member on a guided hike along one of our trails. Some hikes will have a specific topic while others will be about whatever nature presents to us that day. Registration is required the Monday before the hike takes place\, as space is limited and meeting locations may vary. Hikes will be under a mile long unless specified. Register by emailing jessicaj@woodlanddunes.org or call 920-793-4007.
URL:https://www.woodlanddunes.org/calendar/guided-walks-henry-wetland-hike/
CATEGORIES:Guided Walks
END:VEVENT
END:VCALENDAR