BEGIN:VCALENDAR
VERSION:2.0
PRODID:-//Woodland Dunes Nature Center &amp; Preserve - ECPv6.15.20//NONSGML v1.0//EN
CALSCALE:GREGORIAN
METHOD:PUBLISH
X-ORIGINAL-URL:https://www.woodlanddunes.org
X-WR-CALDESC:Events for Woodland Dunes Nature Center &amp; Preserve
REFRESH-INTERVAL;VALUE=DURATION:PT1H
X-Robots-Tag:noindex
X-PUBLISHED-TTL:PT1H
BEGIN:VTIMEZONE
TZID:America/Chicago
BEGIN:DAYLIGHT
TZOFFSETFROM:-0600
TZOFFSETTO:-0500
TZNAME:CDT
DTSTART:20240310T080000
END:DAYLIGHT
BEGIN:STANDARD
TZOFFSETFROM:-0500
TZOFFSETTO:-0600
TZNAME:CST
DTSTART:20241103T070000
END:STANDARD
BEGIN:DAYLIGHT
TZOFFSETFROM:-0600
TZOFFSETTO:-0500
TZNAME:CDT
DTSTART:20250309T080000
END:DAYLIGHT
BEGIN:STANDARD
TZOFFSETFROM:-0500
TZOFFSETTO:-0600
TZNAME:CST
DTSTART:20251102T070000
END:STANDARD
BEGIN:DAYLIGHT
TZOFFSETFROM:-0600
TZOFFSETTO:-0500
TZNAME:CDT
DTSTART:20260308T080000
END:DAYLIGHT
BEGIN:STANDARD
TZOFFSETFROM:-0500
TZOFFSETTO:-0600
TZNAME:CST
DTSTART:20261101T070000
END:STANDARD
END:VTIMEZONE
BEGIN:VEVENT
DTSTART;TZID=America/Chicago:20250815T180000
DTEND;TZID=America/Chicago:20250815T190000
DTSTAMP:20260421T092603
CREATED:20250428T220851Z
LAST-MODIFIED:20250814T135501Z
UID:12755-1755280800-1755284400@www.woodlanddunes.org
SUMMARY:CANCELED: Family Fridays Series - Trees
DESCRIPTION:Members: Free \nNon-members: $15/family \nWalk through the forest and meet some of the trees in the preserve. Registration required by Wednesday August 13th. \nSummer Fridays are made for fun! This new series is for children and their adults to engage with \nnature through exciting hands-on activities. Each program will explore a new topic and will be \npacked with fun. Best for ages 4-12\, but all ages welcome. Register by emailing Jess at jessicaj@woodlanddunes.org or call 920-793-4007. \n  \n  \n 
URL:https://www.woodlanddunes.org/calendar/family-fridays-series-trees/
CATEGORIES:Children's Programs
END:VEVENT
END:VCALENDAR