BEGIN:VCALENDAR
VERSION:2.0
PRODID:-//Woodland Dunes Nature Center &amp; Preserve - ECPv6.15.20//NONSGML v1.0//EN
CALSCALE:GREGORIAN
METHOD:PUBLISH
X-ORIGINAL-URL:https://www.woodlanddunes.org
X-WR-CALDESC:Events for Woodland Dunes Nature Center &amp; Preserve
REFRESH-INTERVAL;VALUE=DURATION:PT1H
X-Robots-Tag:noindex
X-PUBLISHED-TTL:PT1H
BEGIN:VTIMEZONE
TZID:America/Chicago
BEGIN:DAYLIGHT
TZOFFSETFROM:-0600
TZOFFSETTO:-0500
TZNAME:CDT
DTSTART:20250309T080000
END:DAYLIGHT
BEGIN:STANDARD
TZOFFSETFROM:-0500
TZOFFSETTO:-0600
TZNAME:CST
DTSTART:20251102T070000
END:STANDARD
BEGIN:DAYLIGHT
TZOFFSETFROM:-0600
TZOFFSETTO:-0500
TZNAME:CDT
DTSTART:20260308T080000
END:DAYLIGHT
BEGIN:STANDARD
TZOFFSETFROM:-0500
TZOFFSETTO:-0600
TZNAME:CST
DTSTART:20261101T070000
END:STANDARD
BEGIN:DAYLIGHT
TZOFFSETFROM:-0600
TZOFFSETTO:-0500
TZNAME:CDT
DTSTART:20270314T080000
END:DAYLIGHT
BEGIN:STANDARD
TZOFFSETFROM:-0500
TZOFFSETTO:-0600
TZNAME:CST
DTSTART:20271107T070000
END:STANDARD
END:VTIMEZONE
BEGIN:VEVENT
DTSTART;TZID=America/Chicago:20260107T130000
DTEND;TZID=America/Chicago:20260107T140000
DTSTAMP:20260421T123511
CREATED:20251113T154619Z
LAST-MODIFIED:20251113T154619Z
UID:67882-1767790800-1767794400@www.woodlanddunes.org
SUMMARY:Adult Learning Series: Bird Friendly Window Technologies
DESCRIPTION:Sliding scale fee of $3-$10 per person (collected at check-in\, cash is preferred). Registration required by Monday\, January 5th. Email jessicaj@woodlanddunes.org or call the nature center at 920-793-4007 \nJoin us for a presentation about the importance of bird friendly window technology. Reduce window threats by learning about some of the different types that can be used on home windows to keep our feathered friends safe. Staff will conduct a lesson to show how to make your very own zen wind curtain. Materials will be provided for each participant to create one standard sized window curtain to take home. Sponsored by The Winston Group and Next Era.
URL:https://www.woodlanddunes.org/calendar/adult-learning-series-bird-friendly-window-technologies/
CATEGORIES:Adult Programs
END:VEVENT
END:VCALENDAR