BEGIN:VCALENDAR
VERSION:2.0
PRODID:-//Woodland Dunes Nature Center &amp; Preserve - ECPv6.15.20//NONSGML v1.0//EN
CALSCALE:GREGORIAN
METHOD:PUBLISH
X-ORIGINAL-URL:https://www.woodlanddunes.org
X-WR-CALDESC:Events for Woodland Dunes Nature Center &amp; Preserve
REFRESH-INTERVAL;VALUE=DURATION:PT1H
X-Robots-Tag:noindex
X-PUBLISHED-TTL:PT1H
BEGIN:VTIMEZONE
TZID:America/Chicago
BEGIN:DAYLIGHT
TZOFFSETFROM:-0600
TZOFFSETTO:-0500
TZNAME:CDT
DTSTART:20250309T080000
END:DAYLIGHT
BEGIN:STANDARD
TZOFFSETFROM:-0500
TZOFFSETTO:-0600
TZNAME:CST
DTSTART:20251102T070000
END:STANDARD
BEGIN:DAYLIGHT
TZOFFSETFROM:-0600
TZOFFSETTO:-0500
TZNAME:CDT
DTSTART:20260308T080000
END:DAYLIGHT
BEGIN:STANDARD
TZOFFSETFROM:-0500
TZOFFSETTO:-0600
TZNAME:CST
DTSTART:20261101T070000
END:STANDARD
BEGIN:DAYLIGHT
TZOFFSETFROM:-0600
TZOFFSETTO:-0500
TZNAME:CDT
DTSTART:20270314T080000
END:DAYLIGHT
BEGIN:STANDARD
TZOFFSETFROM:-0500
TZOFFSETTO:-0600
TZNAME:CST
DTSTART:20271107T070000
END:STANDARD
END:VTIMEZONE
BEGIN:VEVENT
DTSTART;TZID=America/Chicago:20260121T120000
DTEND;TZID=America/Chicago:20260121T130000
DTSTAMP:20260422T053402
CREATED:20251112T204521Z
LAST-MODIFIED:20251112T205029Z
UID:67866-1768996800-1769000400@www.woodlanddunes.org
SUMMARY:Dunes' Digest: The Motus Wildlife Tracking System in Wisconsin
DESCRIPTION:Sliding scale fee of $3-$10 per person\, collected at check-in (cash is preferred). Bring your own lunch and we will provide coffee\, tea\, water and a sweet treat. Registration is required by Monday\, January 19th. To register please email jessicaj@woodlanddunes.org or call the nature center at 920-793-4007. \nMotus is an organization of hundreds of sites throughout the world that record radio telemetry from birds and other animals fitted with small transmitters. Woodland Dunes operates two Motus stations which record birds passing through the preserve. Join Jacob Woulf\, Motus Coordinator for the Lake Michigan Bird Observatory\, to learn about motus station equipment\, transmitters\, and Wisconsin’s role in the tracking system. He’ll also explain how to navigate the website to look at individualized tracks of birds\, including some recorded at Woodland Dunes. \n 
URL:https://www.woodlanddunes.org/calendar/dunes-digest-the-motus-wildlife-tracking-system-in-wisconsin/
CATEGORIES:Adult Programs
END:VEVENT
END:VCALENDAR