BEGIN:VCALENDAR
VERSION:2.0
PRODID:-//Woodland Dunes Nature Center &amp; Preserve - ECPv6.15.20//NONSGML v1.0//EN
CALSCALE:GREGORIAN
METHOD:PUBLISH
X-WR-CALNAME:Woodland Dunes Nature Center &amp; Preserve
X-ORIGINAL-URL:https://www.woodlanddunes.org
X-WR-CALDESC:Events for Woodland Dunes Nature Center &amp; Preserve
REFRESH-INTERVAL;VALUE=DURATION:PT1H
X-Robots-Tag:noindex
X-PUBLISHED-TTL:PT1H
BEGIN:VTIMEZONE
TZID:America/Chicago
BEGIN:DAYLIGHT
TZOFFSETFROM:-0600
TZOFFSETTO:-0500
TZNAME:CDT
DTSTART:20250309T080000
END:DAYLIGHT
BEGIN:STANDARD
TZOFFSETFROM:-0500
TZOFFSETTO:-0600
TZNAME:CST
DTSTART:20251102T070000
END:STANDARD
BEGIN:DAYLIGHT
TZOFFSETFROM:-0600
TZOFFSETTO:-0500
TZNAME:CDT
DTSTART:20260308T080000
END:DAYLIGHT
BEGIN:STANDARD
TZOFFSETFROM:-0500
TZOFFSETTO:-0600
TZNAME:CST
DTSTART:20261101T070000
END:STANDARD
BEGIN:DAYLIGHT
TZOFFSETFROM:-0600
TZOFFSETTO:-0500
TZNAME:CDT
DTSTART:20270314T080000
END:DAYLIGHT
BEGIN:STANDARD
TZOFFSETFROM:-0500
TZOFFSETTO:-0600
TZNAME:CST
DTSTART:20271107T070000
END:STANDARD
END:VTIMEZONE
BEGIN:VEVENT
DTSTART;TZID=America/Chicago:20260516T080000
DTEND;TZID=America/Chicago:20260516T110000
DTSTAMP:20260422T215507
CREATED:20260130T174446Z
LAST-MODIFIED:20260130T174446Z
UID:68029-1778918400-1778929200@www.woodlanddunes.org
SUMMARY:Bird Breakfast & Migration Celebration
DESCRIPTION:8:00-11:00am\nMembers: $7/person\nNon-members: $9/person\nKids under 4\, free\nCelebrate World Migratory Bird Day and the return of many of our migratory songbirds! Guided bird hikes will be available throughout the morning (please register for the 7am and 8am hikes starting April 27th) and self-guided activities for families will be available. We will also be offering a delicious ham and pancake breakfast. Our friends from Barnwood Coffee Company will also be here serving their certified bird-friendly coffee. Reservations and details about the breakfast and guided bird hikes will be available on Monday\, April 27th.
URL:https://www.woodlanddunes.org/calendar/bird-breakfast-migration-celebration-2/
CATEGORIES:Programs for Everyone
END:VEVENT
END:VCALENDAR