BEGIN:VCALENDAR
VERSION:2.0
PRODID:-//Woodland Dunes Nature Center &amp; Preserve - ECPv6.15.20//NONSGML v1.0//EN
CALSCALE:GREGORIAN
METHOD:PUBLISH
X-WR-CALNAME:Woodland Dunes Nature Center &amp; Preserve
X-ORIGINAL-URL:https://www.woodlanddunes.org
X-WR-CALDESC:Events for Woodland Dunes Nature Center &amp; Preserve
REFRESH-INTERVAL;VALUE=DURATION:PT1H
X-Robots-Tag:noindex
X-PUBLISHED-TTL:PT1H
BEGIN:VTIMEZONE
TZID:America/Chicago
BEGIN:DAYLIGHT
TZOFFSETFROM:-0600
TZOFFSETTO:-0500
TZNAME:CDT
DTSTART:20240310T080000
END:DAYLIGHT
BEGIN:STANDARD
TZOFFSETFROM:-0500
TZOFFSETTO:-0600
TZNAME:CST
DTSTART:20241103T070000
END:STANDARD
BEGIN:DAYLIGHT
TZOFFSETFROM:-0600
TZOFFSETTO:-0500
TZNAME:CDT
DTSTART:20250309T080000
END:DAYLIGHT
BEGIN:STANDARD
TZOFFSETFROM:-0500
TZOFFSETTO:-0600
TZNAME:CST
DTSTART:20251102T070000
END:STANDARD
BEGIN:DAYLIGHT
TZOFFSETFROM:-0600
TZOFFSETTO:-0500
TZNAME:CDT
DTSTART:20260308T080000
END:DAYLIGHT
BEGIN:STANDARD
TZOFFSETFROM:-0500
TZOFFSETTO:-0600
TZNAME:CST
DTSTART:20261101T070000
END:STANDARD
END:VTIMEZONE
BEGIN:VEVENT
DTSTART;TZID=America/Chicago:20250503T090000
DTEND;TZID=America/Chicago:20250503T103000
DTSTAMP:20260421T012627
CREATED:20250210T182953Z
LAST-MODIFIED:20250210T182953Z
UID:12193-1746262800-1746268200@www.woodlanddunes.org
SUMMARY:Wild Wanderers: Backyard Birds
DESCRIPTION:Members: $3/child \nNon-members: $4/child \nWild Wanderers is for children 5-8 years old and an adult. Fly on over to learn about birds we commonly see at our bird feeders! After we learn about our feathered friends we will go for a short hike to try to see them. Portions of the program will be led by staff while others are self-guided. Dress for the weather – a majority of the program will take place outdoors. Registration is required by the Monday before each session\, space is limited. To register\, email Jess at jessicaj@woodlanddunes.org or call 920-793-4007.
URL:https://www.woodlanddunes.org/calendar/wild-wanderers-backyard-birds/
CATEGORIES:Children's Programs
END:VEVENT
BEGIN:VEVENT
DTSTART;VALUE=DATE:20250430
DTEND;VALUE=DATE:20250501
DTSTAMP:20260421T012627
CREATED:20250211T192340Z
LAST-MODIFIED:20250211T192340Z
UID:12368-1745971200-1746057599@www.woodlanddunes.org
SUMMARY:Name That Baby Trail
DESCRIPTION:Do you know what a baby hawk is called? How about a baby fish? Informational signs will be posted on the first part of Willow Trail and Goldenrod Loop. Bring the whole family for a walk outside and learn some new baby names. Trail is available from dawn to dusk from April 18th-April 30th.
URL:https://www.woodlanddunes.org/calendar/name-that-baby-trail-13/
CATEGORIES:Children's Programs
END:VEVENT
BEGIN:VEVENT
DTSTART;VALUE=DATE:20250429
DTEND;VALUE=DATE:20250430
DTSTAMP:20260421T012627
CREATED:20250211T192318Z
LAST-MODIFIED:20250211T192318Z
UID:12366-1745884800-1745971199@www.woodlanddunes.org
SUMMARY:Name That Baby Trail
DESCRIPTION:Do you know what a baby hawk is called? How about a baby fish? Informational signs will be posted on the first part of Willow Trail and Goldenrod Loop. Bring the whole family for a walk outside and learn some new baby names. Trail is available from dawn to dusk from April 18th-April 30th.
URL:https://www.woodlanddunes.org/calendar/name-that-baby-trail-12/
CATEGORIES:Children's Programs
END:VEVENT
BEGIN:VEVENT
DTSTART;VALUE=DATE:20250428
DTEND;VALUE=DATE:20250429
DTSTAMP:20260421T012627
CREATED:20250211T192258Z
LAST-MODIFIED:20250211T192258Z
UID:12364-1745798400-1745884799@www.woodlanddunes.org
SUMMARY:Name That Baby Trail
DESCRIPTION:Do you know what a baby hawk is called? How about a baby fish? Informational signs will be posted on the first part of Willow Trail and Goldenrod Loop. Bring the whole family for a walk outside and learn some new baby names. Trail is available from dawn to dusk from April 18th-April 30th.
URL:https://www.woodlanddunes.org/calendar/name-that-baby-trail-11/
CATEGORIES:Children's Programs
END:VEVENT
BEGIN:VEVENT
DTSTART;VALUE=DATE:20250427
DTEND;VALUE=DATE:20250428
DTSTAMP:20260421T012627
CREATED:20250211T192230Z
LAST-MODIFIED:20250211T192230Z
UID:12362-1745712000-1745798399@www.woodlanddunes.org
SUMMARY:Name That Baby Trail
DESCRIPTION:Do you know what a baby hawk is called? How about a baby fish? Informational signs will be posted on the first part of Willow Trail and Goldenrod Loop. Bring the whole family for a walk outside and learn some new baby names. Trail is available from dawn to dusk from April 18th-April 30th.
URL:https://www.woodlanddunes.org/calendar/name-that-baby-trail-10/
CATEGORIES:Children's Programs
END:VEVENT
BEGIN:VEVENT
DTSTART;VALUE=DATE:20250426
DTEND;VALUE=DATE:20250427
DTSTAMP:20260421T012627
CREATED:20250211T192212Z
LAST-MODIFIED:20250211T192212Z
UID:12360-1745625600-1745711999@www.woodlanddunes.org
SUMMARY:Name That Baby Trail
DESCRIPTION:Do you know what a baby hawk is called? How about a baby fish? Informational signs will be posted on the first part of Willow Trail and Goldenrod Loop. Bring the whole family for a walk outside and learn some new baby names. Trail is available from dawn to dusk from April 18th-April 30th.
URL:https://www.woodlanddunes.org/calendar/name-that-baby-trail-9/
CATEGORIES:Children's Programs
END:VEVENT
BEGIN:VEVENT
DTSTART;VALUE=DATE:20250425
DTEND;VALUE=DATE:20250426
DTSTAMP:20260421T012627
CREATED:20250211T192153Z
LAST-MODIFIED:20250211T192153Z
UID:12358-1745539200-1745625599@www.woodlanddunes.org
SUMMARY:Name That Baby Trail
DESCRIPTION:Do you know what a baby hawk is called? How about a baby fish? Informational signs will be posted on the first part of Willow Trail and Goldenrod Loop. Bring the whole family for a walk outside and learn some new baby names. Trail is available from dawn to dusk from April 18th-April 30th.
URL:https://www.woodlanddunes.org/calendar/name-that-baby-trail-8/
CATEGORIES:Children's Programs
END:VEVENT
BEGIN:VEVENT
DTSTART;VALUE=DATE:20250424
DTEND;VALUE=DATE:20250425
DTSTAMP:20260421T012627
CREATED:20250211T192130Z
LAST-MODIFIED:20250211T192130Z
UID:12356-1745452800-1745539199@www.woodlanddunes.org
SUMMARY:Name That Baby Trail
DESCRIPTION:Do you know what a baby hawk is called? How about a baby fish? Informational signs will be posted on the first part of Willow Trail and Goldenrod Loop. Bring the whole family for a walk outside and learn some new baby names. Trail is available from dawn to dusk from April 18th-April 30th.
URL:https://www.woodlanddunes.org/calendar/name-that-baby-trail-7/
CATEGORIES:Children's Programs
END:VEVENT
BEGIN:VEVENT
DTSTART;TZID=America/Chicago:20250423T120000
DTEND;TZID=America/Chicago:20250423T130000
DTSTAMP:20260421T012627
CREATED:20250331T195312Z
LAST-MODIFIED:20250331T195312Z
UID:12585-1745409600-1745413200@www.woodlanddunes.org
SUMMARY:Dunes' Digest: Everything Under an Inch
DESCRIPTION:Sliding scale fee of $1-$10 per person (collected at check). Bring a lunch and the Dunes will provide coffee\, tea\, water and a sweet treat. To register\, email Jess at jessicaj@woodlanddunes.org or call 920-793-4007. \nJoin Naturalist Matt Welter as he shows photos of things you might have missed because of their size. From Yellow Fuzz Cone Slime to Fairy Wasps\, this program will open your eyes to some of the most amazing and miniscule things you might see at Woodland Dunes and other natural areas. Bring your own lunch and we will provide coffee\, tea\, water and a sweet treat. Registration is appreciated by Monday\, April 21st.
URL:https://www.woodlanddunes.org/calendar/dunes-digest-everything-under-an-inch/
CATEGORIES:Adult Programs
END:VEVENT
BEGIN:VEVENT
DTSTART;VALUE=DATE:20250423
DTEND;VALUE=DATE:20250424
DTSTAMP:20260421T012627
CREATED:20250211T192106Z
LAST-MODIFIED:20250211T192106Z
UID:12354-1745366400-1745452799@www.woodlanddunes.org
SUMMARY:Name That Baby Trail
DESCRIPTION:Do you know what a baby hawk is called? How about a baby fish? Informational signs will be posted on the first part of Willow Trail and Goldenrod Loop. Bring the whole family for a walk outside and learn some new baby names. Trail is available from dawn to dusk from April 18th-April 30th.
URL:https://www.woodlanddunes.org/calendar/name-that-baby-trail-6/
CATEGORIES:Children's Programs
END:VEVENT
BEGIN:VEVENT
DTSTART;VALUE=DATE:20250422
DTEND;VALUE=DATE:20250423
DTSTAMP:20260421T012627
CREATED:20250211T192040Z
LAST-MODIFIED:20250211T192040Z
UID:12352-1745280000-1745366399@www.woodlanddunes.org
SUMMARY:Name That Baby Trail
DESCRIPTION:Do you know what a baby hawk is called? How about a baby fish? Informational signs will be posted on the first part of Willow Trail and Goldenrod Loop. Bring the whole family for a walk outside and learn some new baby names. Trail is available from dawn to dusk from April 18th-April 30th.
URL:https://www.woodlanddunes.org/calendar/name-that-baby-trail-5/
CATEGORIES:Children's Programs
END:VEVENT
BEGIN:VEVENT
DTSTART;VALUE=DATE:20250421
DTEND;VALUE=DATE:20250422
DTSTAMP:20260421T012627
CREATED:20250211T192021Z
LAST-MODIFIED:20250211T192021Z
UID:12350-1745193600-1745279999@www.woodlanddunes.org
SUMMARY:Name That Baby Trail
DESCRIPTION:Do you know what a baby hawk is called? How about a baby fish? Informational signs will be posted on the first part of Willow Trail and Goldenrod Loop. Bring the whole family for a walk outside and learn some new baby names. Trail is available from dawn to dusk from April 18th-April 30th.
URL:https://www.woodlanddunes.org/calendar/name-that-baby-trail-4/
CATEGORIES:Children's Programs
END:VEVENT
BEGIN:VEVENT
DTSTART;VALUE=DATE:20250420
DTEND;VALUE=DATE:20250421
DTSTAMP:20260421T012627
CREATED:20250211T191955Z
LAST-MODIFIED:20250211T191955Z
UID:12348-1745107200-1745193599@www.woodlanddunes.org
SUMMARY:Name That Baby Trail
DESCRIPTION:Do you know what a baby hawk is called? How about a baby fish? Informational signs will be posted on the first part of Willow Trail and Goldenrod Loop. Bring the whole family for a walk outside and learn some new baby names. Trail is available from dawn to dusk from April 18th-April 30th.
URL:https://www.woodlanddunes.org/calendar/name-that-baby-trail-3/
CATEGORIES:Children's Programs
END:VEVENT
BEGIN:VEVENT
DTSTART;TZID=America/Chicago:20250419T080000
DTEND;TZID=America/Chicago:20250419T090000
DTSTAMP:20260421T012627
CREATED:20250210T195319Z
LAST-MODIFIED:20250210T195319Z
UID:12212-1745049600-1745053200@www.woodlanddunes.org
SUMMARY:Saturday Morning Bird Walk
DESCRIPTION:Join local birder\, Joel Trick\, for a guided bird walk along the trails at Woodland Dunes. Look and listen for migrants and resident birds during the spring migration. Bring your binoculars and register by Thursday\, April 17th. Space is limited\, so register early! Email Jess at jessicaj@woodlanddunes.org or call 920-793-4007. The walk will last at least one hour\, but may be longer if the birding is good. Program is weather dependent. Sponsored by The Winston Group.
URL:https://www.woodlanddunes.org/calendar/saturday-morning-bird-walk/
CATEGORIES:Guided Walks
END:VEVENT
BEGIN:VEVENT
DTSTART;VALUE=DATE:20250419
DTEND;VALUE=DATE:20250420
DTSTAMP:20260421T012627
CREATED:20250211T191930Z
LAST-MODIFIED:20250211T191930Z
UID:12346-1745020800-1745107199@www.woodlanddunes.org
SUMMARY:Name That Baby Trail
DESCRIPTION:Do you know what a baby hawk is called? How about a baby fish? Informational signs will be posted on the first part of Willow Trail and Goldenrod Loop. Bring the whole family for a walk outside and learn some new baby names. Trail is available from dawn to dusk from April 18th-April 30th.
URL:https://www.woodlanddunes.org/calendar/name-that-baby-trail-2/
CATEGORIES:Children's Programs
END:VEVENT
BEGIN:VEVENT
DTSTART;VALUE=DATE:20250418
DTEND;VALUE=DATE:20250419
DTSTAMP:20260421T012627
CREATED:20250210T183834Z
LAST-MODIFIED:20250211T191849Z
UID:12201-1744934400-1745020799@www.woodlanddunes.org
SUMMARY:Name That Baby Trail
DESCRIPTION:Do you know what a baby hawk is called? How about a baby fish? Informational signs will be posted on the first part of Willow Trail and Goldenrod Loop. Bring the whole family for a walk outside and learn some new baby names. Trail is available from dawn to dusk from April 18th-April 30th. \n 
URL:https://www.woodlanddunes.org/calendar/name-that-baby-trail/
CATEGORIES:Children's Programs
END:VEVENT
BEGIN:VEVENT
DTSTART;TZID=America/Chicago:20250416T090000
DTEND;TZID=America/Chicago:20250416T100000
DTSTAMP:20260421T012627
CREATED:20250210T195805Z
LAST-MODIFIED:20250210T195805Z
UID:12218-1744794000-1744797600@www.woodlanddunes.org
SUMMARY:Searching for Osprey
DESCRIPTION:Hike along Cattail Trail to search for the osprey that call the marsh home and learn more about this mighty raptor. \nMembers: Free \nNon-members: Sliding scale $3-$10/person (collected at walk). \nRegistration is required the Monday before the hike takes place\, as space is limited\, and meeting locations vary. To register\, email Jess at jessicaj@woodlanddunes.org or call 920-793-4007. \nHikes will be under a mile long unless specified.
URL:https://www.woodlanddunes.org/calendar/searching-for-osprey/
CATEGORIES:Guided Walks
END:VEVENT
BEGIN:VEVENT
DTSTART;TZID=America/Chicago:20250410T104500
DTEND;TZID=America/Chicago:20250410T120000
DTSTAMP:20260421T012627
CREATED:20250210T182535Z
LAST-MODIFIED:20250210T182535Z
UID:12187-1744281900-1744286400@www.woodlanddunes.org
SUMMARY:Raising a Wild Child Woodpeckers Session 2
DESCRIPTION:Members: $2/child \nNon-members: $3/child \nExperience the wonders of nature with your 2-5 year old through nature hikes\, play and guided activities. Help your child notice the natural world and ignite their curiosity! Children must be accompanied by an adult. Dress for the weather\, majority of the program takes place outdoors. Registration required by the Monday before each session\, space is limited. Unless otherwise stated\, registration is required for all programs. Please note the deadlines and program location. To register\, email Jess at jessicaj@woodlanddunes.org or call 920-793-4007.
URL:https://www.woodlanddunes.org/calendar/raising-a-wild-child-woodpeckers-session-2/
CATEGORIES:Children's Programs
END:VEVENT
BEGIN:VEVENT
DTSTART;TZID=America/Chicago:20250410T090000
DTEND;TZID=America/Chicago:20250410T101500
DTSTAMP:20260421T012627
CREATED:20250210T182414Z
LAST-MODIFIED:20250210T182414Z
UID:12185-1744275600-1744280100@www.woodlanddunes.org
SUMMARY:Raising a Wild Child Woodpeckers Session 1
DESCRIPTION:Members: $2/child \nNon-members: $3/child \nExperience the wonders of nature with your 2-5 year old through nature hikes\, play and guided activities. Help your child notice the natural world and ignite their curiosity! Children must be accompanied by an adult. Dress for the weather\, majority of the program takes place outdoors. Registration required by the Monday before each session\, space is limited. Unless otherwise stated\, registration is required for all programs. Please note the deadlines and program location. To register\, email Jess at jessicaj@woodlanddunes.org or call 920-793-4007.
URL:https://www.woodlanddunes.org/calendar/raising-a-wild-child-woodpeckers-session-1/
CATEGORIES:Children's Programs
END:VEVENT
BEGIN:VEVENT
DTSTART;TZID=America/Chicago:20250408T090000
DTEND;TZID=America/Chicago:20250408T101500
DTSTAMP:20260421T012627
CREATED:20250210T184436Z
LAST-MODIFIED:20250210T184436Z
UID:12208-1744102800-1744107300@www.woodlanddunes.org
SUMMARY:Birding by Ear for Beginners
DESCRIPTION:Sliding scale fee of $1-$10 per person \nListening to a birds’ song is a helpful tool for identification and it’s a rewarding way to expand your bird knowledge. Learn tips and tricks to identify the sounds of some of the common birds of the area. Resources will be shared and we’ll take a short bird walk to practice. Registration required by Friday\, April 4th. Email Jess at jessicaj@woodlanddunes.org or call 920-793-4007. Sponsored by the Winston Group.
URL:https://www.woodlanddunes.org/calendar/birding-by-ear-for-beginners/
CATEGORIES:Adult Programs
END:VEVENT
BEGIN:VEVENT
DTSTART;TZID=America/Chicago:20250405T090000
DTEND;TZID=America/Chicago:20250405T103000
DTSTAMP:20260421T012627
CREATED:20250210T183321Z
LAST-MODIFIED:20250210T183321Z
UID:12195-1743843600-1743849000@www.woodlanddunes.org
SUMMARY:Wild Wanderers: Nocturnal Animals
DESCRIPTION:Members: $3/child \nNon-members: $4/child \nWild Wanderers is for children 5-8 years old and an adult. How are animals able to see in the dark? Who is awake while we sleep? Learn about the awesome nocturnal animals that live here and how they navigate when it is dark. Portions of the program will be led by staff while others are self-guided. Dress for the weather – a majority of the program will take place outdoors. Registration is required by the Monday before each session\, space is limited. To register\, email Jess at jessicaj@woodlanddunes.org or call 920-793-4007.
URL:https://www.woodlanddunes.org/calendar/wild-wanderers-nocturnal-animals/
CATEGORIES:Children's Programs
END:VEVENT
BEGIN:VEVENT
DTSTART;TZID=America/Chicago:20250401T143000
DTEND;TZID=America/Chicago:20250401T153000
DTSTAMP:20260421T012627
CREATED:20250210T195558Z
LAST-MODIFIED:20250210T195558Z
UID:12216-1743517800-1743521400@www.woodlanddunes.org
SUMMARY:Fools of Nature
DESCRIPTION:Solitude\, yes\, but humor? Yes! Let’s find fools in nature together! Trail TBD. \nMembers: Free \nNon-members: Sliding scale $3-$10/person (collected at walk). \nRegistration is required the Monday before the hike takes place\, as space is limited\, and meeting locations vary. To register\, email Jess at jessicaj@woodlanddunes.org or call 920-793-4007. \nHikes will be under a mile long unless specified.
URL:https://www.woodlanddunes.org/calendar/fools-of-nature/
CATEGORIES:Guided Walks
END:VEVENT
BEGIN:VEVENT
DTSTART;VALUE=DATE:20250331
DTEND;VALUE=DATE:20250401
DTSTAMP:20260421T012627
CREATED:20250211T191749Z
LAST-MODIFIED:20250211T191749Z
UID:12344-1743379200-1743465599@www.woodlanddunes.org
SUMMARY:Spring Break Activity Bingo
DESCRIPTION:Looking for some fun over spring break? Visit Woodland Dunes for a self-guided BINGO game that will take you around various parts of the preserve perfect for families looking for both indoor and outdoor fun! Bingo sheets will be available at the front desk and the outdoor kiosk near the main entrance. This is a self-guided activity setup from March 17th-31st.
URL:https://www.woodlanddunes.org/calendar/spring-break-activity-bingo-15/
CATEGORIES:Children's Programs
END:VEVENT
BEGIN:VEVENT
DTSTART;VALUE=DATE:20250330
DTEND;VALUE=DATE:20250331
DTSTAMP:20260421T012627
CREATED:20250211T191726Z
LAST-MODIFIED:20250211T191726Z
UID:12342-1743292800-1743379199@www.woodlanddunes.org
SUMMARY:Spring Break Activity Bingo
DESCRIPTION:Looking for some fun over spring break? Visit Woodland Dunes for a self-guided BINGO game that will take you around various parts of the preserve perfect for families looking for both indoor and outdoor fun! Bingo sheets will be available at the front desk and the outdoor kiosk near the main entrance. This is a self-guided activity setup from March 17th-31st.
URL:https://www.woodlanddunes.org/calendar/spring-break-activity-bingo-14/
CATEGORIES:Children's Programs
END:VEVENT
BEGIN:VEVENT
DTSTART;VALUE=DATE:20250329
DTEND;VALUE=DATE:20250330
DTSTAMP:20260421T012627
CREATED:20250211T191704Z
LAST-MODIFIED:20250211T191704Z
UID:12340-1743206400-1743292799@www.woodlanddunes.org
SUMMARY:Spring Break Activity Bingo
DESCRIPTION:Looking for some fun over spring break? Visit Woodland Dunes for a self-guided BINGO game that will take you around various parts of the preserve perfect for families looking for both indoor and outdoor fun! Bingo sheets will be available at the front desk and the outdoor kiosk near the main entrance. This is a self-guided activity setup from March 17th-31st.
URL:https://www.woodlanddunes.org/calendar/spring-break-activity-bingo-13/
CATEGORIES:Children's Programs
END:VEVENT
BEGIN:VEVENT
DTSTART;VALUE=DATE:20250328
DTEND;VALUE=DATE:20250329
DTSTAMP:20260421T012627
CREATED:20250211T191643Z
LAST-MODIFIED:20250211T191643Z
UID:12338-1743120000-1743206399@www.woodlanddunes.org
SUMMARY:Spring Break Activity Bingo
DESCRIPTION:Looking for some fun over spring break? Visit Woodland Dunes for a self-guided BINGO game that will take you around various parts of the preserve perfect for families looking for both indoor and outdoor fun! Bingo sheets will be available at the front desk and the outdoor kiosk near the main entrance. This is a self-guided activity setup from March 17th-31st.
URL:https://www.woodlanddunes.org/calendar/spring-break-activity-bingo-12/
CATEGORIES:Children's Programs
END:VEVENT
BEGIN:VEVENT
DTSTART;TZID=America/Chicago:20250327T180000
DTEND;TZID=America/Chicago:20250327T190000
DTSTAMP:20260421T012627
CREATED:20250204T224637Z
LAST-MODIFIED:20250208T165210Z
UID:12013-1743098400-1743102000@www.woodlanddunes.org
SUMMARY:Evening Spring Walk
DESCRIPTION:Enjoy a guided hike and look for the early signs of spring. Trail TBD. \nMembers: Free \nNon-members: Sliding scale $3-$10/person (collected at walk). \nRegistration is required the Monday before the hike takes place\, as space is limited\, and meeting locations vary. To register\, email Jess at jessicaj@woodlanddunes.org or call 920-793-4007. \nHikes will be under a mile long unless specified.
URL:https://www.woodlanddunes.org/calendar/evening-spring-walk/
CATEGORIES:Guided Walks
END:VEVENT
BEGIN:VEVENT
DTSTART;VALUE=DATE:20250327
DTEND;VALUE=DATE:20250328
DTSTAMP:20260421T012627
CREATED:20250211T191619Z
LAST-MODIFIED:20250211T191619Z
UID:12335-1743033600-1743119999@www.woodlanddunes.org
SUMMARY:Spring Break Activity Bingo
DESCRIPTION:Looking for some fun over spring break? Visit Woodland Dunes for a self-guided BINGO game that will take you around various parts of the preserve perfect for families looking for both indoor and outdoor fun! Bingo sheets will be available at the front desk and the outdoor kiosk near the main entrance. This is a self-guided activity setup from March 17th-31st.
URL:https://www.woodlanddunes.org/calendar/spring-break-activity-bingo-11/
CATEGORIES:Children's Programs
END:VEVENT
BEGIN:VEVENT
DTSTART;TZID=America/Chicago:20250326T183000
DTEND;TZID=America/Chicago:20250326T193000
DTSTAMP:20260421T012627
CREATED:20250204T233623Z
LAST-MODIFIED:20250327T131056Z
UID:12037-1743013800-1743017400@www.woodlanddunes.org
SUMMARY:Trail Camera Highlights
DESCRIPTION:Sliding scale fee of $1-$10 per person \nWoodland Dunes Nature Center has several off-trail cameras stationed in the preserve to monitor wildlife. Enjoy an indoor presentation of some of the best photos and video clips collected over the last few years and learn interesting facts about the animals captured on camera. Registration required by Monday\, March 24th. Email Jess at jessicaj@woodlanddunes.org or call 920-793-4007. Sponsored by the Winston Group.
URL:https://www.woodlanddunes.org/calendar/trail-camera-highlights/
CATEGORIES:Adult Programs
END:VEVENT
BEGIN:VEVENT
DTSTART;VALUE=DATE:20250326
DTEND;VALUE=DATE:20250327
DTSTAMP:20260421T012627
CREATED:20250211T191543Z
LAST-MODIFIED:20250211T191543Z
UID:12333-1742947200-1743033599@www.woodlanddunes.org
SUMMARY:Spring Break Activity Bingo
DESCRIPTION:Looking for some fun over spring break? Visit Woodland Dunes for a self-guided BINGO game that will take you around various parts of the preserve perfect for families looking for both indoor and outdoor fun! Bingo sheets will be available at the front desk and the outdoor kiosk near the main entrance. This is a self-guided activity setup from March 17th-31st.
URL:https://www.woodlanddunes.org/calendar/spring-break-activity-bingo-10/
CATEGORIES:Children's Programs
END:VEVENT
END:VCALENDAR