BEGIN:VCALENDAR
VERSION:2.0
PRODID:-//Woodland Dunes Nature Center &amp; Preserve - ECPv6.15.20//NONSGML v1.0//EN
CALSCALE:GREGORIAN
METHOD:PUBLISH
X-ORIGINAL-URL:https://www.woodlanddunes.org
X-WR-CALDESC:Events for Woodland Dunes Nature Center &amp; Preserve
REFRESH-INTERVAL;VALUE=DURATION:PT1H
X-Robots-Tag:noindex
X-PUBLISHED-TTL:PT1H
BEGIN:VTIMEZONE
TZID:America/Chicago
BEGIN:DAYLIGHT
TZOFFSETFROM:-0600
TZOFFSETTO:-0500
TZNAME:CDT
DTSTART:20240310T080000
END:DAYLIGHT
BEGIN:STANDARD
TZOFFSETFROM:-0500
TZOFFSETTO:-0600
TZNAME:CST
DTSTART:20241103T070000
END:STANDARD
BEGIN:DAYLIGHT
TZOFFSETFROM:-0600
TZOFFSETTO:-0500
TZNAME:CDT
DTSTART:20250309T080000
END:DAYLIGHT
BEGIN:STANDARD
TZOFFSETFROM:-0500
TZOFFSETTO:-0600
TZNAME:CST
DTSTART:20251102T070000
END:STANDARD
BEGIN:DAYLIGHT
TZOFFSETFROM:-0600
TZOFFSETTO:-0500
TZNAME:CDT
DTSTART:20260308T080000
END:DAYLIGHT
BEGIN:STANDARD
TZOFFSETFROM:-0500
TZOFFSETTO:-0600
TZNAME:CST
DTSTART:20261101T070000
END:STANDARD
END:VTIMEZONE
BEGIN:VEVENT
DTSTART;TZID=America/Chicago:20250505T143000
DTEND;TZID=America/Chicago:20250505T153000
DTSTAMP:20260421T013114
CREATED:20250210T195922Z
LAST-MODIFIED:20250210T195922Z
UID:12220-1746455400-1746459000@www.woodlanddunes.org
SUMMARY:The Brilliant Serviceberry
DESCRIPTION:Walk our Black Cherry Trail and observe the enchanting color or our native serviceberries. \nMembers: Free \nNon-members: Sliding scale $3-$10/person (collected at walk). \nRegistration is required the Monday before the hike takes place\, as space is limited\, and meeting locations vary. To register\, email Jess at jessicaj@woodlanddunes.org or call 920-793-4007. \nHikes will be under a mile long unless specified.
URL:https://www.woodlanddunes.org/calendar/the-brilliant-serviceberry/
CATEGORIES:Guided Walks
END:VEVENT
BEGIN:VEVENT
DTSTART;TZID=America/Chicago:20250508T090000
DTEND;TZID=America/Chicago:20250508T101500
DTSTAMP:20260421T013114
CREATED:20250210T182652Z
LAST-MODIFIED:20250210T183102Z
UID:12189-1746694800-1746699300@www.woodlanddunes.org
SUMMARY:Raising a Wild Child Salamanders Session 1
DESCRIPTION:Members: $2/child \nNon-members: $3/child \nExperience the wonders of nature with your 2-5 year old through nature hikes\, play and guided activities. Help your child notice the natural world and ignite their curiosity! Children must be accompanied by an adult. Dress for the weather\, majority of the program takes place outdoors. Registration required by the Monday before each session\, space is limited. Unless otherwise stated\, registration is required for all programs. Please note the deadlines and program location. To register\, email Jess at jessicaj@woodlanddunes.org or call 920-793-4007.
URL:https://www.woodlanddunes.org/calendar/raising-a-wild-child-salamanders-session-1/
CATEGORIES:Children's Programs
END:VEVENT
BEGIN:VEVENT
DTSTART;TZID=America/Chicago:20250508T114500
DTEND;TZID=America/Chicago:20250508T120000
DTSTAMP:20260421T013114
CREATED:20250210T182749Z
LAST-MODIFIED:20250210T183047Z
UID:12191-1746704700-1746705600@www.woodlanddunes.org
SUMMARY:Raising a Wild Child Salamanders Session 2
DESCRIPTION:Members: $2/child \nNon-members: $3/child \nExperience the wonders of nature with your 2-5 year old through nature hikes\, play and guided activities. Help your child notice the natural world and ignite their curiosity! Children must be accompanied by an adult. Dress for the weather\, majority of the program takes place outdoors. Registration required by the Monday before each session\, space is limited. Unless otherwise stated\, registration is required for all programs. Please note the deadlines and program location. To register\, email Jess at jessicaj@woodlanddunes.org or call 920-793-4007.
URL:https://www.woodlanddunes.org/calendar/raising-a-wild-child-salamanders-session-2/
CATEGORIES:Children's Programs
END:VEVENT
BEGIN:VEVENT
DTSTART;TZID=America/Chicago:20250508T180000
DTEND;TZID=America/Chicago:20250508T190000
DTSTAMP:20260421T013114
CREATED:20250210T184603Z
LAST-MODIFIED:20250210T184603Z
UID:12210-1746727200-1746730800@www.woodlanddunes.org
SUMMARY:Frogs of Woodland Dunes
DESCRIPTION:Sliding scale fee of $1-$10 per person \nLearn how to identify the frog species that live at the Dunes by sight and sound. Then enjoy a short walk to practice your new skills. Registration required by Monday\, May 5th. Email Jess at jessicaj@woodlanddunes.org or call 920-793-4007. Sponsored by the Winston Group.
URL:https://www.woodlanddunes.org/calendar/frogs-of-woodland-dunes/
CATEGORIES:Adult Programs
END:VEVENT
BEGIN:VEVENT
DTSTART;TZID=America/Chicago:20250517T210000
DTEND;TZID=America/Chicago:20250517T220000
DTSTAMP:20260421T013114
CREATED:20250210T184156Z
LAST-MODIFIED:20250210T200424Z
UID:12205-1747515600-1747519200@www.woodlanddunes.org
SUMMARY:Spring Star Party
DESCRIPTION:View night sky constellations with astronomers Al and Ben\, along with the moon and other celestial objects through the big telescope in the Sky Shed. You can even bring your own telescope if you need help figuring out how to set it up. Weather and sky conditions permitting. Program takes place outside the Nature Center. Registration appreciated by Thursday\, May 15th. Email Jess at jessicaj@woodlanddunes.org or call 920-793-4007. Sponsored by The Winston Group.
URL:https://www.woodlanddunes.org/calendar/spring-star-party/
CATEGORIES:Programs for Everyone
END:VEVENT
BEGIN:VEVENT
DTSTART;TZID=America/Chicago:20250522T100000
DTEND;TZID=America/Chicago:20250522T110000
DTSTAMP:20260421T013114
CREATED:20250210T200033Z
LAST-MODIFIED:20250210T200033Z
UID:12222-1747908000-1747911600@www.woodlanddunes.org
SUMMARY:Spring Flowers
DESCRIPTION:Walk Trillium Trail and see the beautiful array of spring flowers in bloom. This hike will be about 1.5 miles. \nMembers: Free \nNon-members: Sliding scale $3-$10/person (collected at walk). \nRegistration is required the Monday before the hike takes place\, as space is limited\, and meeting locations vary. To register\, email Jess at jessicaj@woodlanddunes.org or call 920-793-4007. \n 
URL:https://www.woodlanddunes.org/calendar/spring-flowers/
CATEGORIES:Guided Walks
END:VEVENT
BEGIN:VEVENT
DTSTART;TZID=America/Chicago:20250524T080000
DTEND;TZID=America/Chicago:20250524T090000
DTSTAMP:20260421T013114
CREATED:20250428T174555Z
LAST-MODIFIED:20250428T174555Z
UID:12709-1748073600-1748077200@www.woodlanddunes.org
SUMMARY:Saturday Morning Bird Walk
DESCRIPTION:Email Jess at jessicaj@woodlanddunes.org or call 920-793-4007 to register. \nJoin local birder\, Joel Trick\, for a guided bird walk along Cattail Trail. Look and listen for migrants and resident birds during the spring migration. Bring your binoculars and register by Thursday\, May 22nd. Space is limited. The walk will last about 1 hour\, but could be longer if the birding is good. Program is weather dependent. Sponsored by the Winston Group.
URL:https://www.woodlanddunes.org/calendar/saturday-morning-bird-walk-2/
CATEGORIES:Guided Walks
END:VEVENT
BEGIN:VEVENT
DTSTART;TZID=America/Chicago:20250606T193000
DTEND;TZID=America/Chicago:20250606T203000
DTSTAMP:20260421T013114
CREATED:20250428T202225Z
LAST-MODIFIED:20250428T202225Z
UID:12740-1749238200-1749241800@www.woodlanddunes.org
SUMMARY:NEW Family Fridays Series - Frog Night
DESCRIPTION:Members: Free \nNon-members: $15/family \nMeet frogs that live in the preserve and learn what they sound like. Then stroll by the \nswales to listen for singing frogs. Registration required by Wednesday\, June 4th. \nSummer Fridays are made for fun! This new series is for children and their adults to engage with \nnature through exciting hands-on activities. Each program will explore a new topic and will be \npacked with fun. Best for ages 4-12\, but all ages welcome. Registration required\, please email Jess at jessicaj@woodlanddunes.org or call 920-793-4007. \n 
URL:https://www.woodlanddunes.org/calendar/new-family-fridays-series-frog-night/
CATEGORIES:Children's Programs
END:VEVENT
BEGIN:VEVENT
DTSTART;TZID=America/Chicago:20250607T100000
DTEND;TZID=America/Chicago:20250607T230000
DTSTAMP:20260421T013114
CREATED:20250428T195842Z
LAST-MODIFIED:20250428T202946Z
UID:12736-1749290400-1749337200@www.woodlanddunes.org
SUMMARY:Guided Walks - National Trails Day
DESCRIPTION:Members: Free \nNon-members: Sliding scale $3-$10/person \nCelebrate National Trails Day as we hike along Goldenrod Loop to look at how our recently planted trees are doing and listen for the birds of summer. \nJoin a staff member on a guided hike along one of our trails. Some hikes will have a specific topic while others will be about whatever nature presents to us that day. Registration is required the Monday before the hike takes place\, as space is limited and meeting locations may vary. Hikes will be under a mile long unless specified. To register\, email jessicaj@woodlanddunes.org or call 920-793-4007. \n 
URL:https://www.woodlanddunes.org/calendar/guided-walks-national-trails-day/
CATEGORIES:Guided Walks
END:VEVENT
BEGIN:VEVENT
DTSTART;TZID=America/Chicago:20250610T130000
DTEND;TZID=America/Chicago:20250610T143000
DTSTAMP:20260421T013114
CREATED:20250428T192706Z
LAST-MODIFIED:20250428T195401Z
UID:12714-1749560400-1749565800@www.woodlanddunes.org
SUMMARY:Little Wings Play Days - Drip! Drop! Play With Water
DESCRIPTION:Play with water and bring a towel! \nGather in the outdoor Little Wings Nature Play Area for these special play days. Families can play together\, have fun and maybe get a little messy too! Activities for ages 2-10\, but open to all. Children must be accompanied by an adult. Free\, no registration required. In the event of poor weather\, an indoor activity will be available in the education room.
URL:https://www.woodlanddunes.org/calendar/little-wings-play-days-drip-drop-play-with-water/
CATEGORIES:Children's Programs
END:VEVENT
BEGIN:VEVENT
DTSTART;TZID=America/Chicago:20250612T090000
DTEND;TZID=America/Chicago:20250612T101500
DTSTAMP:20260421T013114
CREATED:20250428T192945Z
LAST-MODIFIED:20250428T202832Z
UID:12716-1749718800-1749723300@www.woodlanddunes.org
SUMMARY:Raising a Wild Child - Who's My Baby? Session 1
DESCRIPTION:Members: $2/child\nNon-members: $3/child \nExperience the wonders of nature with your 2-5 year old through nature hikes\, play and guided activities. Help your child notice the natural world and ignite their curiosity! Children must be accompanied by an adult\, older siblings welcome in summer. Dress for the weather\, majority of the program takes place outdoors. Registration required by the Monday before each session\, space is limited. Email Jess at jessicaj@woodlanddunes.org or call 920-793-4007.
URL:https://www.woodlanddunes.org/calendar/raising-a-wild-child-whos-my-baby/
CATEGORIES:Children's Programs
END:VEVENT
BEGIN:VEVENT
DTSTART;TZID=America/Chicago:20250612T104500
DTEND;TZID=America/Chicago:20250612T120000
DTSTAMP:20260421T013114
CREATED:20250428T193944Z
LAST-MODIFIED:20250428T202749Z
UID:12724-1749725100-1749729600@www.woodlanddunes.org
SUMMARY:Raising A Wild Child - Who's My Baby? Session 2
DESCRIPTION:Members: $2/child\nNon-members: $3/child \nExperience the wonders of nature with your 2-5 year old through nature hikes\, play and guided activities. Help your child notice the natural world and ignite their curiosity! Children must be accompanied by an adult\, older siblings welcome in summer. Dress for the weather\, majority of the program takes place outdoors. Registration required by the Monday before each session\, space is limited. Email Jess at jessicaj@woodlanddunes.org or call 920-793-4007.
URL:https://www.woodlanddunes.org/calendar/raising-a-wild-child-whos-my-baby-session-2/
CATEGORIES:Children's Programs
END:VEVENT
BEGIN:VEVENT
DTSTART;TZID=America/Chicago:20250618T100000
DTEND;TZID=America/Chicago:20250618T113000
DTSTAMP:20260421T013114
CREATED:20250428T194735Z
LAST-MODIFIED:20250428T202703Z
UID:12731-1750240800-1750246200@www.woodlanddunes.org
SUMMARY:Adult Learning Series - Identifying Common Invasive Species & Management Strategies 
DESCRIPTION:All programs in this series have a sliding scale fee of $3-$10 per person. This will be collected at check-in\, cash is preferred. Sponsored by the Winston Group and Next Era. \nJoin our Land Manager and learn about common invasive species of Northeast Wisconsin. This program will include a short presentation about identifying and managing invasive species as well as a walk to identify invasives in the field and showcase our efforts to mitigate their impact in our own preserve. Registration required by Monday\, June 16th. To register\, email Jess at jessicaj@woodlanddunes.org or call 920-793-4007. \n 
URL:https://www.woodlanddunes.org/calendar/adult-learning-series-identifying-common-invasive-species-management-strategies/
CATEGORIES:Adult Programs
END:VEVENT
BEGIN:VEVENT
DTSTART;TZID=America/Chicago:20250620T083000
DTEND;TZID=America/Chicago:20250620T213000
DTSTAMP:20260421T013114
CREATED:20250428T200527Z
LAST-MODIFIED:20250428T202618Z
UID:12738-1750408200-1750455000@www.woodlanddunes.org
SUMMARY:Guided Walks - Willow Trail Expedition
DESCRIPTION:Members: Free \nNon-members: Sliding scale $3-$10/person \nHike all of Willow Trail with staff while we look for what animals and plants can be found along the way. This hike will be around 2 miles in length. \nJoin a staff member on a guided hike along one of our trails. Some hikes will have a specific topic while others will be about whatever nature presents to us that day. Registration is required. To register\, email Jess at jessicaj@woodlanddunes.org or call920-793-4007. \n 
URL:https://www.woodlanddunes.org/calendar/guided-walks-willow-trail-expedition/
CATEGORIES:Guided Walks
END:VEVENT
BEGIN:VEVENT
DTSTART;TZID=America/Chicago:20250621T100000
DTEND;TZID=America/Chicago:20250621T110000
DTSTAMP:20260421T013114
CREATED:20250428T193458Z
LAST-MODIFIED:20250428T193458Z
UID:12720-1750500000-1750503600@www.woodlanddunes.org
SUMMARY:Slow Down Saturdays
DESCRIPTION:Slow down\, stop by\, and say hi to Jess or Kennedy! Each session will have fun information and activities about nature. Visit the front desk to find out where the session will take place. Stop in anytime during the hour. Fun for all ages\, no registration required. Watch our Facebook page for more information as the date approaches.
URL:https://www.woodlanddunes.org/calendar/slow-down-saturdays/
CATEGORIES:Programs for Everyone
END:VEVENT
BEGIN:VEVENT
DTSTART;TZID=America/Chicago:20250621T220000
DTEND;TZID=America/Chicago:20250621T230000
DTSTAMP:20260421T013114
CREATED:20250428T193233Z
LAST-MODIFIED:20250428T202516Z
UID:12718-1750543200-1750546800@www.woodlanddunes.org
SUMMARY:Summer Star Parties
DESCRIPTION:View night sky constellations with astronomers Al and Ben\, along with the moon and other celestial objects through the big telescope in the Sky Shed. You can even bring your own telescope if you need help figuring out how to set it up. Weather and sky conditions permitting. Program takes place outside the Nature Center. Registration required by the Thursday before each session. Sponsored by The Winston Group. Email Jess at jessicaj@woodlanddunes.org or call 920-793-4007. \n 
URL:https://www.woodlanddunes.org/calendar/summer-star-parties/
CATEGORIES:Programs for Everyone
END:VEVENT
BEGIN:VEVENT
DTSTART;TZID=America/Chicago:20250626T130000
DTEND;TZID=America/Chicago:20250626T153000
DTSTAMP:20260421T013114
CREATED:20250428T195225Z
LAST-MODIFIED:20250428T202414Z
UID:12734-1750942800-1750951800@www.woodlanddunes.org
SUMMARY:Adult Summer Camps - Wetlands
DESCRIPTION:New! Why should kids have all the fun? Calling all adults that are kids at heart\, come attend a short summer camp and explore various nature topics through hands-on activities\, games\, crafts\, and hikes! Learn\, laugh\, and meet like-minded individuals that are excited to spend time outdoors. Camps will take place mostly outdoors. Space is limited – registration required. Sliding scale $5-$25 \nWonderful\, Wild\, Wacky\, Wetlands! Explore what makes a wetland so special and see who lives there through activities like pond dipping\, a pollution demonstration\, and a wetland wander hike! \nRegistration required by Friday\, June 20th. Email Jessica at jessicaj@woodlanddunes.org or call 920-793-4007.
URL:https://www.woodlanddunes.org/calendar/adult-summer-camps-wetlands/
CATEGORIES:Adult Programs
END:VEVENT
BEGIN:VEVENT
DTSTART;TZID=America/Chicago:20250627T100000
DTEND;TZID=America/Chicago:20250627T110000
DTSTAMP:20260421T013114
CREATED:20250428T191607Z
LAST-MODIFIED:20250428T191607Z
UID:12711-1751018400-1751022000@www.woodlanddunes.org
SUMMARY:Family Program: Pond Dipping
DESCRIPTION:Use nets to dip in the pond and see what lives below the surface. Registration required by Wednesday\, June 25th.  To register\, email Jess at jessicaj@woodlanddunes.org or call 920-793-4007. \n 
URL:https://www.woodlanddunes.org/calendar/family-program-pond-dipping/
CATEGORIES:Children's Programs
END:VEVENT
BEGIN:VEVENT
DTSTART;TZID=America/Chicago:20250627T120000
DTEND;TZID=America/Chicago:20250627T130000
DTSTAMP:20260421T013114
CREATED:20250604T173359Z
LAST-MODIFIED:20250604T173621Z
UID:13233-1751025600-1751029200@www.woodlanddunes.org
SUMMARY:Write-Ins At Woodland Dunes
DESCRIPTION:Join writers Peggy Turnbull and Tara Huck of Fresh Water Press for time dedicated to creativity. We’ll look at a poem or two by Jean Biegun from her book\, Waking Up at Woodland Dunes\, then walk outside to discover what the Dunes landscape has to say to us. We’ll write for most of the session and share our work with each other at the end (only if you want). Bring paper\, a notebook or sketch pad\, and your favorite writing implement.\nPeggy Turnbull is the author of Where Sweetness Falls with the Rain and The Joy of Their Holiness. Tara Huck is the author of Just a Stop Along the Way and Stress Fracture. Along with Tracey Koach\, they are the co-founders and editors of the Fresh Water Press.\nRegistration required Monday before the event. Call 920-793-4007 or email jessicaj@woodlanddunes.org.
URL:https://www.woodlanddunes.org/calendar/write-ins-at-woodland-dunes/
CATEGORIES:Adult Programs
END:VEVENT
BEGIN:VEVENT
DTSTART;TZID=America/Chicago:20250628T100000
DTEND;TZID=America/Chicago:20250628T110000
DTSTAMP:20260421T013114
CREATED:20250428T194219Z
LAST-MODIFIED:20250428T194219Z
UID:12726-1751104800-1751108400@www.woodlanddunes.org
SUMMARY:Slow Down Saturdays
DESCRIPTION:Slow down\, stop by\, and say hi to Jess or Kennedy! Each session will have fun information and activities about nature. Visit the front desk to find out where the session will take place. Stop in anytime during the hour. Fun for all ages\, no registration required. Watch our Facebook page for more information as the date approaches.
URL:https://www.woodlanddunes.org/calendar/slow-down-saturdays-2/
CATEGORIES:Programs for Everyone
END:VEVENT
BEGIN:VEVENT
DTSTART;TZID=America/Chicago:20250708T130000
DTEND;TZID=America/Chicago:20250708T143000
DTSTAMP:20260421T013114
CREATED:20250428T221217Z
LAST-MODIFIED:20250428T221217Z
UID:12757-1751979600-1751985000@www.woodlanddunes.org
SUMMARY:Little Wings Play Days - Bubble Play
DESCRIPTION:Bubble Play – blow bubbles and try a bubble science activity! \nGather in the outdoor Little Wings Nature Play Area for these special play days. Families can play together\, have fun and maybe get a little messy too! Activities for ages 2-10\, but open to all. Children must be accompanied by an adult. Free\, no registration required. In the event of poor weather\, an indoor activity will be available in the education room.
URL:https://www.woodlanddunes.org/calendar/little-wings-play-days-bubble-play/
CATEGORIES:Children's Programs
END:VEVENT
BEGIN:VEVENT
DTSTART;TZID=America/Chicago:20250710T090000
DTEND;TZID=America/Chicago:20250710T101500
DTSTAMP:20260421T013114
CREATED:20250428T222040Z
LAST-MODIFIED:20250428T222040Z
UID:12761-1752138000-1752142500@www.woodlanddunes.org
SUMMARY:Raising a Wild Child - Nature Observation Session 1
DESCRIPTION:Members: $2/child \nNon-members: $3/child \nExperience the wonders of nature with your 2-5 year old through nature hikes\, play and guided activities. Help your child notice the natural world and ignite their curiosity! Children must be accompanied by an adult\, older siblings welcome in summer. Dress for the weather\, majority of the program takes place outdoors. Registration required by the Monday before each session\, space is limited. Call 920-793-4007 or email jessicaj@woodlanddunes.org. \n 
URL:https://www.woodlanddunes.org/calendar/raising-a-wild-child-nature-observation-session-1/
CATEGORIES:Children's Programs
END:VEVENT
BEGIN:VEVENT
DTSTART;TZID=America/Chicago:20250710T104500
DTEND;TZID=America/Chicago:20250710T120000
DTSTAMP:20260421T013114
CREATED:20250428T222159Z
LAST-MODIFIED:20250428T222327Z
UID:12763-1752144300-1752148800@www.woodlanddunes.org
SUMMARY:Raising A Wild Child - Nature Observation Session 2
DESCRIPTION:Members: $2/child \nNon-members: $3/child \nExperience the wonders of nature with your 2-5 year old through nature hikes\, play and guided activities. Help your child notice the natural world and ignite their curiosity! Children must be accompanied by an adult\, older siblings welcome in summer. Dress for the weather\, majority of the program takes place outdoors. Registration required by the Monday before each session\, space is limited. Call 920-793-4007 or email jessicaj@woodlanddunes.org.
URL:https://www.woodlanddunes.org/calendar/raising-a-wild-child-nature-observation-session-2/
CATEGORIES:Children's Programs
END:VEVENT
BEGIN:VEVENT
DTSTART;TZID=America/Chicago:20250711T070000
DTEND;TZID=America/Chicago:20250711T080000
DTSTAMP:20260421T013114
CREATED:20250428T230704Z
LAST-MODIFIED:20250428T230704Z
UID:12789-1752217200-1752220800@www.woodlanddunes.org
SUMMARY:Guided Walks - The Morning Prairie
DESCRIPTION:Wander amongst the prairie wildflowers at their peak down Willow Trail. \nMembers: Free \nNon-members: Sliding scale $3-$10/person \nJoin a staff member on a guided hike along one of our trails. Some hikes will have a specific topic while others will be about whatever nature presents to us that day. Registration is required the Monday before the hike takes place\, as space is limited and meeting locations may vary. Hikes will be under a mile long unless specified. Register by emailing jessicaj@woodlanddunes.org or call 920-793-4007.
URL:https://www.woodlanddunes.org/calendar/guided-walks-the-morning-prairie/
CATEGORIES:Guided Walks
END:VEVENT
BEGIN:VEVENT
DTSTART;TZID=America/Chicago:20250711T100000
DTEND;TZID=America/Chicago:20250711T103000
DTSTAMP:20260421T013114
CREATED:20250428T223045Z
LAST-MODIFIED:20250428T223045Z
UID:12769-1752228000-1752229800@www.woodlanddunes.org
SUMMARY:Flutter & Buzz Storytime on the Road with Manitowoc Public Library
DESCRIPTION:Wriggle your way to Woodland Dunes Nature Center and join library staff as we explore the wonderful world of insects through stories\, rhymes\, and songs. Stick around after storytime for an un-bee-leivably fun activity with the Woodland Dunes Staff. Storytime is recommended for developmental ages 2-5 and siblings are always welcome. In the event of inclement weather\, the program will be held inside the Nature Center. Registration appreciated by Wednesday\, July 9th\, but walk-ins welcome.
URL:https://www.woodlanddunes.org/calendar/flutter-buzz-storytime-on-the-road-with-manitowoc-public-library/
CATEGORIES:Children's Programs
END:VEVENT
BEGIN:VEVENT
DTSTART;TZID=America/Chicago:20250711T210000
DTEND;TZID=America/Chicago:20250711T220000
DTSTAMP:20260421T013114
CREATED:20250428T214646Z
LAST-MODIFIED:20250428T214646Z
UID:12749-1752267600-1752271200@www.woodlanddunes.org
SUMMARY:Family Fridays Series - Fireflies
DESCRIPTION:Members: Free \nNon-members: $15/family \nLearn a few firefly basics\, make a craft and then carefully catch and observe these amazing insects. Be prepared for mosquitoes. Registration required by Wednesday\, July 9th. \nSummer Fridays are made for fun! This new series is for children and their adults to engage with \nnature through exciting hands-on activities. Each program will explore a new topic and will be \npacked with fun. Best for ages 4-12\, but all ages welcome. To register – email Jess at jessicaj@woodlanddunes.org or call 920-793-4007. \n 
URL:https://www.woodlanddunes.org/calendar/family-fridays-series-fireflies/
CATEGORIES:Children's Programs
END:VEVENT
BEGIN:VEVENT
DTSTART;TZID=America/Chicago:20250712T090000
DTEND;TZID=America/Chicago:20250712T110000
DTSTAMP:20260421T013114
CREATED:20250428T224852Z
LAST-MODIFIED:20250428T232030Z
UID:12780-1752310800-1752318000@www.woodlanddunes.org
SUMMARY:Adult Learning Series - Branching Out: An Exploration of Arboreal Stories
DESCRIPTION:All programs in this series have a sliding scale fee of $3-$10 per person. This will be collected at check-in\, cash is preferred. Sponsored by the Winston Group and Next Era. \nThe arboreal humanities is an emerging field of study that seeks to explore the relationship between humans and trees through literature\, art\, and other forms of expression. \nJoin Emma Knickelbine\, a PhD student in literature at UW-Milwaukee\, as she discusses her ongoing research in the arboreal humanities and explores the significance behind the language we use to describe trees\, and ourselves in relation to them. We’ll talk about trees in Herman Melville’s Moby-Dick (no prior reading is required)\, explore contemporary arboreal literature\, and venture outside to investigate our own relationships with arboreal life. Registration appreciated by Thursday\, July 10th. Email jessicaj@woodlanddunes.org or call 920-793-4007.
URL:https://www.woodlanddunes.org/calendar/adult-learning-series-branching-out-an-exploration-of-arboreal-stories/
CATEGORIES:Adult Programs
END:VEVENT
BEGIN:VEVENT
DTSTART;TZID=America/Chicago:20250719T220000
DTEND;TZID=America/Chicago:20250719T230000
DTSTAMP:20260421T013114
CREATED:20250428T223504Z
LAST-MODIFIED:20250428T223504Z
UID:12771-1752962400-1752966000@www.woodlanddunes.org
SUMMARY:Summer Star Parties
DESCRIPTION:View night sky constellations with astronomers Al and Ben\, along with the moon and other celestial objects through the big telescope in the Sky Shed. You can even bring your own telescope if you need help figuring out how to set it up. Weather and sky conditions permitting. Program takes place outside the Nature Center. Registration required by the Thursday before each session. Sponsored by The Winston Group. Email jessicaj@woodlanddunes.org or call 920-793-4007. \n 
URL:https://www.woodlanddunes.org/calendar/summer-star-parties-2/
CATEGORIES:Programs for Everyone
END:VEVENT
BEGIN:VEVENT
DTSTART;TZID=America/Chicago:20250722T120000
DTEND;TZID=America/Chicago:20250722T130000
DTSTAMP:20260421T013114
CREATED:20250604T174323Z
LAST-MODIFIED:20250604T174323Z
UID:13237-1753185600-1753189200@www.woodlanddunes.org
SUMMARY:Write-Ins At Woodland Dunes
DESCRIPTION:Join writers Peggy Turnbull and Tara Huck of Fresh Water Press for time dedicated to creativity. We’ll look at a poem or two by Jean Biegun from her book\, Waking Up at Woodland Dunes\, then walk outside to discover what the Dunes landscape has to say to us. We’ll write for most of the session and share our work with each other at the end (only if you want). Bring paper\, a notebook or sketch pad\, and your favorite writing implement.\nPeggy Turnbull is the author of Where Sweetness Falls with the Rain and The Joy of Their Holiness. Tara Huck is the author of Just a Stop Along the Way and Stress Fracture. Along with Tracey Koach\, they are the co-founders and editors of the Fresh Water Press.\nRegistration required Monday before the event. Call 920-793-4007 or email jessicaj@woodlanddunes.org.
URL:https://www.woodlanddunes.org/calendar/write-ins-at-woodland-dunes-2/
CATEGORIES:Adult Programs
END:VEVENT
BEGIN:VEVENT
DTSTART;TZID=America/Chicago:20250723T130000
DTEND;TZID=America/Chicago:20250723T150000
DTSTAMP:20260421T013114
CREATED:20250428T225709Z
LAST-MODIFIED:20250428T225709Z
UID:12785-1753275600-1753282800@www.woodlanddunes.org
SUMMARY:Adult Summer Camps - Wildflowers
DESCRIPTION:Learn about the beautiful flowers that fill our prairies! See flowers in a whole new way while looking at flower parts under a microscope\, learn about pollinators and why they are important\, and take a stroll through the prairie to learn some flower ID. Registration required by Friday\, July 18th \nSliding scale $5-$25 \nNew! Why should kids have all the fun? Calling all adults that are kids at heart\, come attend a short summer camp and explore various nature topics through hands-on activities\, games\, crafts\, and hikes! Learn\, laugh\, and meet like-minded individuals that are excited to spend time outdoors. Camps will take place mostly outdoors. Space is limited – registration required. \n 
URL:https://www.woodlanddunes.org/calendar/adult-summer-camps-wildflowers/
CATEGORIES:Adult Programs
END:VEVENT
END:VCALENDAR