BEGIN:VCALENDAR
VERSION:2.0
PRODID:-//Woodland Dunes Nature Center &amp; Preserve - ECPv6.15.20//NONSGML v1.0//EN
CALSCALE:GREGORIAN
METHOD:PUBLISH
X-WR-CALNAME:Woodland Dunes Nature Center &amp; Preserve
X-ORIGINAL-URL:https://www.woodlanddunes.org
X-WR-CALDESC:Events for Woodland Dunes Nature Center &amp; Preserve
REFRESH-INTERVAL;VALUE=DURATION:PT1H
X-Robots-Tag:noindex
X-PUBLISHED-TTL:PT1H
BEGIN:VTIMEZONE
TZID:America/Chicago
BEGIN:DAYLIGHT
TZOFFSETFROM:-0600
TZOFFSETTO:-0500
TZNAME:CDT
DTSTART:20240310T080000
END:DAYLIGHT
BEGIN:STANDARD
TZOFFSETFROM:-0500
TZOFFSETTO:-0600
TZNAME:CST
DTSTART:20241103T070000
END:STANDARD
BEGIN:DAYLIGHT
TZOFFSETFROM:-0600
TZOFFSETTO:-0500
TZNAME:CDT
DTSTART:20250309T080000
END:DAYLIGHT
BEGIN:STANDARD
TZOFFSETFROM:-0500
TZOFFSETTO:-0600
TZNAME:CST
DTSTART:20251102T070000
END:STANDARD
BEGIN:DAYLIGHT
TZOFFSETFROM:-0600
TZOFFSETTO:-0500
TZNAME:CDT
DTSTART:20260308T080000
END:DAYLIGHT
BEGIN:STANDARD
TZOFFSETFROM:-0500
TZOFFSETTO:-0600
TZNAME:CST
DTSTART:20261101T070000
END:STANDARD
END:VTIMEZONE
BEGIN:VEVENT
DTSTART;VALUE=DATE:20250329
DTEND;VALUE=DATE:20250330
DTSTAMP:20260421T043622
CREATED:20250211T191704Z
LAST-MODIFIED:20250211T191704Z
UID:12340-1743206400-1743292799@www.woodlanddunes.org
SUMMARY:Spring Break Activity Bingo
DESCRIPTION:Looking for some fun over spring break? Visit Woodland Dunes for a self-guided BINGO game that will take you around various parts of the preserve perfect for families looking for both indoor and outdoor fun! Bingo sheets will be available at the front desk and the outdoor kiosk near the main entrance. This is a self-guided activity setup from March 17th-31st.
URL:https://www.woodlanddunes.org/calendar/spring-break-activity-bingo-13/
CATEGORIES:Children's Programs
END:VEVENT
BEGIN:VEVENT
DTSTART;VALUE=DATE:20250328
DTEND;VALUE=DATE:20250329
DTSTAMP:20260421T043622
CREATED:20250211T191643Z
LAST-MODIFIED:20250211T191643Z
UID:12338-1743120000-1743206399@www.woodlanddunes.org
SUMMARY:Spring Break Activity Bingo
DESCRIPTION:Looking for some fun over spring break? Visit Woodland Dunes for a self-guided BINGO game that will take you around various parts of the preserve perfect for families looking for both indoor and outdoor fun! Bingo sheets will be available at the front desk and the outdoor kiosk near the main entrance. This is a self-guided activity setup from March 17th-31st.
URL:https://www.woodlanddunes.org/calendar/spring-break-activity-bingo-12/
CATEGORIES:Children's Programs
END:VEVENT
BEGIN:VEVENT
DTSTART;TZID=America/Chicago:20250327T180000
DTEND;TZID=America/Chicago:20250327T190000
DTSTAMP:20260421T043622
CREATED:20250204T224637Z
LAST-MODIFIED:20250208T165210Z
UID:12013-1743098400-1743102000@www.woodlanddunes.org
SUMMARY:Evening Spring Walk
DESCRIPTION:Enjoy a guided hike and look for the early signs of spring. Trail TBD. \nMembers: Free \nNon-members: Sliding scale $3-$10/person (collected at walk). \nRegistration is required the Monday before the hike takes place\, as space is limited\, and meeting locations vary. To register\, email Jess at jessicaj@woodlanddunes.org or call 920-793-4007. \nHikes will be under a mile long unless specified.
URL:https://www.woodlanddunes.org/calendar/evening-spring-walk/
CATEGORIES:Guided Walks
END:VEVENT
BEGIN:VEVENT
DTSTART;VALUE=DATE:20250327
DTEND;VALUE=DATE:20250328
DTSTAMP:20260421T043622
CREATED:20250211T191619Z
LAST-MODIFIED:20250211T191619Z
UID:12335-1743033600-1743119999@www.woodlanddunes.org
SUMMARY:Spring Break Activity Bingo
DESCRIPTION:Looking for some fun over spring break? Visit Woodland Dunes for a self-guided BINGO game that will take you around various parts of the preserve perfect for families looking for both indoor and outdoor fun! Bingo sheets will be available at the front desk and the outdoor kiosk near the main entrance. This is a self-guided activity setup from March 17th-31st.
URL:https://www.woodlanddunes.org/calendar/spring-break-activity-bingo-11/
CATEGORIES:Children's Programs
END:VEVENT
BEGIN:VEVENT
DTSTART;TZID=America/Chicago:20250326T183000
DTEND;TZID=America/Chicago:20250326T193000
DTSTAMP:20260421T043622
CREATED:20250204T233623Z
LAST-MODIFIED:20250327T131056Z
UID:12037-1743013800-1743017400@www.woodlanddunes.org
SUMMARY:Trail Camera Highlights
DESCRIPTION:Sliding scale fee of $1-$10 per person \nWoodland Dunes Nature Center has several off-trail cameras stationed in the preserve to monitor wildlife. Enjoy an indoor presentation of some of the best photos and video clips collected over the last few years and learn interesting facts about the animals captured on camera. Registration required by Monday\, March 24th. Email Jess at jessicaj@woodlanddunes.org or call 920-793-4007. Sponsored by the Winston Group.
URL:https://www.woodlanddunes.org/calendar/trail-camera-highlights/
CATEGORIES:Adult Programs
END:VEVENT
BEGIN:VEVENT
DTSTART;VALUE=DATE:20250326
DTEND;VALUE=DATE:20250327
DTSTAMP:20260421T043622
CREATED:20250211T191543Z
LAST-MODIFIED:20250211T191543Z
UID:12333-1742947200-1743033599@www.woodlanddunes.org
SUMMARY:Spring Break Activity Bingo
DESCRIPTION:Looking for some fun over spring break? Visit Woodland Dunes for a self-guided BINGO game that will take you around various parts of the preserve perfect for families looking for both indoor and outdoor fun! Bingo sheets will be available at the front desk and the outdoor kiosk near the main entrance. This is a self-guided activity setup from March 17th-31st.
URL:https://www.woodlanddunes.org/calendar/spring-break-activity-bingo-10/
CATEGORIES:Children's Programs
END:VEVENT
BEGIN:VEVENT
DTSTART;VALUE=DATE:20250325
DTEND;VALUE=DATE:20250326
DTSTAMP:20260421T043622
CREATED:20250211T191514Z
LAST-MODIFIED:20250211T191514Z
UID:12331-1742860800-1742947199@www.woodlanddunes.org
SUMMARY:Spring Break Activity Bingo
DESCRIPTION:Looking for some fun over spring break? Visit Woodland Dunes for a self-guided BINGO game that will take you around various parts of the preserve perfect for families looking for both indoor and outdoor fun! Bingo sheets will be available at the front desk and the outdoor kiosk near the main entrance. This is a self-guided activity setup from March 17th-31st.
URL:https://www.woodlanddunes.org/calendar/spring-break-activity-bingo-9/
CATEGORIES:Children's Programs
END:VEVENT
BEGIN:VEVENT
DTSTART;VALUE=DATE:20250324
DTEND;VALUE=DATE:20250325
DTSTAMP:20260421T043622
CREATED:20250211T191440Z
LAST-MODIFIED:20250211T191440Z
UID:12329-1742774400-1742860799@www.woodlanddunes.org
SUMMARY:Spring Break Activity Bingo
DESCRIPTION:Looking for some fun over spring break? Visit Woodland Dunes for a self-guided BINGO game that will take you around various parts of the preserve perfect for families looking for both indoor and outdoor fun! Bingo sheets will be available at the front desk and the outdoor kiosk near the main entrance. This is a self-guided activity setup from March 17th-31st.
URL:https://www.woodlanddunes.org/calendar/spring-break-activity-bingo-8/
CATEGORIES:Children's Programs
END:VEVENT
BEGIN:VEVENT
DTSTART;VALUE=DATE:20250323
DTEND;VALUE=DATE:20250324
DTSTAMP:20260421T043622
CREATED:20250211T191406Z
LAST-MODIFIED:20250211T191406Z
UID:12327-1742688000-1742774399@www.woodlanddunes.org
SUMMARY:Spring Break Activity Bingo
DESCRIPTION:Looking for some fun over spring break? Visit Woodland Dunes for a self-guided BINGO game that will take you around various parts of the preserve perfect for families looking for both indoor and outdoor fun! Bingo sheets will be available at the front desk and the outdoor kiosk near the main entrance. This is a self-guided activity setup from March 17th-31st.
URL:https://www.woodlanddunes.org/calendar/spring-break-activity-bingo-7/
CATEGORIES:Children's Programs
END:VEVENT
BEGIN:VEVENT
DTSTART;VALUE=DATE:20250322
DTEND;VALUE=DATE:20250323
DTSTAMP:20260421T043622
CREATED:20250211T191344Z
LAST-MODIFIED:20250211T191344Z
UID:12325-1742601600-1742687999@www.woodlanddunes.org
SUMMARY:Spring Break Activity Bingo
DESCRIPTION:Looking for some fun over spring break? Visit Woodland Dunes for a self-guided BINGO game that will take you around various parts of the preserve perfect for families looking for both indoor and outdoor fun! Bingo sheets will be available at the front desk and the outdoor kiosk near the main entrance. This is a self-guided activity setup from March 17th-31st.
URL:https://www.woodlanddunes.org/calendar/spring-break-activity-bingo-6/
CATEGORIES:Children's Programs
END:VEVENT
BEGIN:VEVENT
DTSTART;VALUE=DATE:20250321
DTEND;VALUE=DATE:20250322
DTSTAMP:20260421T043622
CREATED:20250211T191307Z
LAST-MODIFIED:20250211T191307Z
UID:12323-1742515200-1742601599@www.woodlanddunes.org
SUMMARY:Spring Break Activity Bingo
DESCRIPTION:Looking for some fun over spring break? Visit Woodland Dunes for a self-guided BINGO game that will take you around various parts of the preserve perfect for families looking for both indoor and outdoor fun! Bingo sheets will be available at the front desk and the outdoor kiosk near the main entrance. This is a self-guided activity setup from March 17th-31st.
URL:https://www.woodlanddunes.org/calendar/spring-break-activity-bingo-5/
CATEGORIES:Children's Programs
END:VEVENT
BEGIN:VEVENT
DTSTART;VALUE=DATE:20250320
DTEND;VALUE=DATE:20250321
DTSTAMP:20260421T043622
CREATED:20250211T191243Z
LAST-MODIFIED:20250211T191243Z
UID:12321-1742428800-1742515199@www.woodlanddunes.org
SUMMARY:Spring Break Activity Bingo
DESCRIPTION:Looking for some fun over spring break? Visit Woodland Dunes for a self-guided BINGO game that will take you around various parts of the preserve perfect for families looking for both indoor and outdoor fun! Bingo sheets will be available at the front desk and the outdoor kiosk near the main entrance. This is a self-guided activity setup from March 17th-31st.
URL:https://www.woodlanddunes.org/calendar/spring-break-activity-bingo-4/
CATEGORIES:Children's Programs
END:VEVENT
BEGIN:VEVENT
DTSTART;TZID=America/Chicago:20250319T120000
DTEND;TZID=America/Chicago:20250319T130000
DTSTAMP:20260421T043622
CREATED:20250204T231503Z
LAST-MODIFIED:20250204T231503Z
UID:12033-1742385600-1742389200@www.woodlanddunes.org
SUMMARY:Dunes Digest: The Natural Year in Review with Rob Zimmer
DESCRIPTION:Sliding scale fee of $1-$10 per person (collected at check). Bring a lunch and the Dunes will provide coffee\, tea\, water and a sweet treat. To register\, email Jess at jessicaj@woodlanddunes.org or call 920-793-4007. \nJoin naturalist\, author and radio host Rob Zimmer for a look back at the past year in nature here along the shore. Rob will highlight many of the natural wonders and beauty that he enjoyed and photographed over the past year\, including birds\, butterflies\, wildflowers\, weather and so much more. Experience the past year in nature in this fun and unique educational program.
URL:https://www.woodlanddunes.org/calendar/dunes-digest-the-natural-year-in-review-with-rob-zimmer/
CATEGORIES:Adult Programs
END:VEVENT
BEGIN:VEVENT
DTSTART;VALUE=DATE:20250319
DTEND;VALUE=DATE:20250320
DTSTAMP:20260421T043622
CREATED:20250211T191137Z
LAST-MODIFIED:20250211T191137Z
UID:12319-1742342400-1742428799@www.woodlanddunes.org
SUMMARY:Spring Break Activity Bingo
DESCRIPTION:Looking for some fun over spring break? Visit Woodland Dunes for a self-guided BINGO game that will take you around various parts of the preserve perfect for families looking for both indoor and outdoor fun! Bingo sheets will be available at the front desk and the outdoor kiosk near the main entrance. This is a self-guided activity setup from March 17th-31st.
URL:https://www.woodlanddunes.org/calendar/spring-break-activity-bingo-3/
CATEGORIES:Children's Programs
END:VEVENT
BEGIN:VEVENT
DTSTART;VALUE=DATE:20250318
DTEND;VALUE=DATE:20250319
DTSTAMP:20260421T043622
CREATED:20250211T191103Z
LAST-MODIFIED:20250211T191103Z
UID:12317-1742256000-1742342399@www.woodlanddunes.org
SUMMARY:Spring Break Activity Bingo
DESCRIPTION:Looking for some fun over spring break? Visit Woodland Dunes for a self-guided BINGO game that will take you around various parts of the preserve perfect for families looking for both indoor and outdoor fun! Bingo sheets will be available at the front desk and the outdoor kiosk near the main entrance. This is a self-guided activity setup from March 17th-31st.
URL:https://www.woodlanddunes.org/calendar/spring-break-activity-bingo-2/
CATEGORIES:Children's Programs
END:VEVENT
BEGIN:VEVENT
DTSTART;VALUE=DATE:20250317
DTEND;VALUE=DATE:20250318
DTSTAMP:20260421T043622
CREATED:20250211T191033Z
LAST-MODIFIED:20250211T191033Z
UID:12315-1742169600-1742255999@www.woodlanddunes.org
SUMMARY:Spring Break Activity Bingo
DESCRIPTION:Looking for some fun over spring break? Visit Woodland Dunes for a self-guided BINGO game that will take you around various parts of the preserve perfect for families looking for both indoor and outdoor fun! Bingo sheets will be available at the front desk and the outdoor kiosk near the main entrance. This is a self-guided activity setup from March 17th-31st.
URL:https://www.woodlanddunes.org/calendar/spring-break-activity-bingo/
CATEGORIES:Children's Programs
END:VEVENT
BEGIN:VEVENT
DTSTART;TZID=America/Chicago:20250313T104500
DTEND;TZID=America/Chicago:20250313T120000
DTSTAMP:20260421T043622
CREATED:20250204T230352Z
LAST-MODIFIED:20250204T230408Z
UID:12025-1741862700-1741867200@www.woodlanddunes.org
SUMMARY:Raising a Wild Child: Maple Syrup Session 2
DESCRIPTION:Members: $2/child \nNon-members: $3/child \nExperience the wonders of nature with your 2-5 year old through nature hikes\, play and guided activities. Help your child notice the natural world and ignite their curiosity! Children must be accompanied by an adult. Dress for the weather\, majority of the program takes place outdoors. Registration required by the Monday before each session\, space is limited. Unless otherwise stated\, registration is required for all programs. Please note the deadlines and program location. To register\, email Jess at jessicaj@woodlanddunes.org or call 920-793-4007.
URL:https://www.woodlanddunes.org/calendar/raising-a-wild-child-maple-syrup-session-2/
CATEGORIES:Children's Programs
END:VEVENT
BEGIN:VEVENT
DTSTART;TZID=America/Chicago:20250313T090000
DTEND;TZID=America/Chicago:20250313T101500
DTSTAMP:20260421T043622
CREATED:20250204T230245Z
LAST-MODIFIED:20250204T230245Z
UID:12023-1741856400-1741860900@www.woodlanddunes.org
SUMMARY:Raising a Wild Child: Maple Syrup Session 1
DESCRIPTION:Members: $2/child \nNon-members: $3/child \nExperience the wonders of nature with your 2-5 year old through nature hikes\, play and guided activities. Help your child notice the natural world and ignite their curiosity! Children must be accompanied by an adult. Dress for the weather\, majority of the program takes place outdoors. Registration required by the Monday before each session\, space is limited. Unless otherwise stated\, registration is required for all programs. Please note the deadlines and program location. To register\, email Jess at jessicaj@woodlanddunes.org or call 920-793-4007.
URL:https://www.woodlanddunes.org/calendar/raising-a-wild-child-maple-syrup-session-1/
CATEGORIES:Children's Programs
END:VEVENT
BEGIN:VEVENT
DTSTART;TZID=America/Chicago:20250311T143000
DTEND;TZID=America/Chicago:20250311T153000
DTSTAMP:20260421T043622
CREATED:20250204T224407Z
LAST-MODIFIED:20250204T224500Z
UID:12009-1741703400-1741707000@www.woodlanddunes.org
SUMMARY:March is Moving Walk
DESCRIPTION:Discover what’s breaking loose and moving around on the Preserve. Trail TBD. \nMembers: Free \nNon-members: Sliding scale $3-$10/person (collected at walk). \nRegistration is required the Monday before the hike takes place\, as space is limited\, and meeting locations vary. To register\, email Jess at jessicaj@woodlanddunes.org or call 920-793-4007. \nHikes will be under a mile long unless specified.
URL:https://www.woodlanddunes.org/calendar/march-is-moving-walk/
CATEGORIES:Guided Walks
END:VEVENT
BEGIN:VEVENT
DTSTART;TZID=America/Chicago:20250308T090000
DTEND;TZID=America/Chicago:20250308T103000
DTSTAMP:20260421T043622
CREATED:20250204T225035Z
LAST-MODIFIED:20250204T225550Z
UID:12018-1741424400-1741429800@www.woodlanddunes.org
SUMMARY:Wild Wanderers: Conifer Trees
DESCRIPTION:Members: $3/child \nNon-members: $4/child \nWild Wanderers is for children 5-8 years old and an adult. Explore what makes conifer trees so special as we hike through the forest and then come back for some hands-on activities and exploration! Portions of the program will be led by staff while others are self-guided. Dress for the weather – a majority of the program will take place outdoors. Registration is required by the Monday before each session\, space is limited. To register\, email Jess at jessicaj@woodlanddunes.org or call 920-793-4007.
URL:https://www.woodlanddunes.org/calendar/wild-wanderers-conifer-trees/
CATEGORIES:Children's Programs
END:VEVENT
BEGIN:VEVENT
DTSTART;TZID=America/Chicago:20250227T100000
DTEND;TZID=America/Chicago:20250227T110000
DTSTAMP:20260421T043622
CREATED:20250204T223728Z
LAST-MODIFIED:20250204T223853Z
UID:12005-1740650400-1740654000@www.woodlanddunes.org
SUMMARY:Cool Canines Hike
DESCRIPTION:Hike along one of our trails as we discuss the cool canines that live at Woodland Dunes and what makes them so paw-some! Trail TBD. \nMembers: Free \nNon-members: Sliding scale $3-$10/person (collected at walk). \nRegistration is required the Monday before the hike takes place\, as space is limited\, and meeting locations vary. To register\, email Jess at jessicaj@woodlanddunes.org or call 920-793-4007. \nHikes will be under a mile long unless specified.
URL:https://www.woodlanddunes.org/calendar/cool-canines-hike/
CATEGORIES:Guided Walks
END:VEVENT
BEGIN:VEVENT
DTSTART;TZID=America/Chicago:20250222T170000
DTEND;TZID=America/Chicago:20250222T203000
DTSTAMP:20260421T043622
CREATED:20250204T233334Z
LAST-MODIFIED:20250204T233334Z
UID:12035-1740243600-1740256200@www.woodlanddunes.org
SUMMARY:Tropical Blast
DESCRIPTION:Join us for a night of fun night in the Caribbean that supports our globally rare habitat and the education programs that take place on it\, serving thousands of youth and adults every year. Caribbean dress code\, wine and pineapple raffles\, great auctions and inspirational messages that make you proud to be a Woodland Dunes supporter! Takes place at Sepia Wedding and Event Venue in Two Rivers. For more information or to register\, contact Nancy at nancyn@woodlanddunes.org or 920-793-4007. \n 
URL:https://www.woodlanddunes.org/calendar/tropical-blast/
CATEGORIES:Fundraising Events
END:VEVENT
BEGIN:VEVENT
DTSTART;TZID=America/Chicago:20250219T120000
DTEND;TZID=America/Chicago:20250219T130000
DTSTAMP:20260421T043622
CREATED:20250204T231046Z
LAST-MODIFIED:20250208T162027Z
UID:12029-1739966400-1739970000@www.woodlanddunes.org
SUMMARY:Dunes Digest: Where the land meets the water – Coastal wetlands in the Great Lakes
DESCRIPTION:Sliding scale fee of $1-$10 per person (collected at check). Bring a lunch and the Dunes will provide coffee\, tea\, water and a sweet treat. To register\, email Jess at jessicaj@woodlanddunes.org or call 920-793-4007. \nCalled the “rainforests of the Northern Hemisphere\,” coastal wetlands are one of the most productive habitats in northern latitudes. They warm up before the lake and serve as important spawning and nursery habitat for nearly three quarters of Great Lakes fish species. Wetlands\, like the Great Lakes themselves\, have changed over time\, especially from human impacts\, but wetlands remain important habitats. Join Fisheries Specialist Titus Seilheimer for a virtual tour of coastal wetlands and the current status of other Great Lakes habitats. \n 
URL:https://www.woodlanddunes.org/calendar/where-the-land-meets-the-water-coastal-wetlands-in-the-great-lakes/
CATEGORIES:Adult Programs
END:VEVENT
BEGIN:VEVENT
DTSTART;TZID=America/Chicago:20250214T123000
DTEND;TZID=America/Chicago:20250214T143000
DTSTAMP:20260421T043622
CREATED:20250204T230704Z
LAST-MODIFIED:20250204T230704Z
UID:12027-1739536200-1739543400@www.woodlanddunes.org
SUMMARY:FULL: Storytelling with Donna Severinsen\, Ojibwe and Oneida
DESCRIPTION:Sliding scale fee of$1-$10 per person (collected at check-in) \nWinter is the season for storytelling and a way to pass along cultural teachings. Join us as Dona\, a cultural bearer\, wife\, mother and grandmother\, shares songs and stories from her native culture. Dona will teach participants how to make a dreamcatcher. All supplies included. Registration required\, space is limited. Email Jess at jessicaj@woodlanddunes.org or call 920-793-4007.
URL:https://www.woodlanddunes.org/calendar/full-storytelling-with-donna-severinsen-ojibwe-and-oneida/
CATEGORIES:Adult Programs
END:VEVENT
BEGIN:VEVENT
DTSTART;TZID=America/Chicago:20250213T104500
DTEND;TZID=America/Chicago:20250213T120000
DTSTAMP:20260421T043622
CREATED:20250204T230002Z
LAST-MODIFIED:20250204T230002Z
UID:12021-1739443500-1739448000@www.woodlanddunes.org
SUMMARY:Raising a Wild Child: Snowflakes
DESCRIPTION:Members: $2/child \nNon-members: $3/child \nExperience the wonders of nature with your 2-5 year old through nature hikes\, play and guided activities. Help your child notice the natural world and ignite their curiosity! Children must be accompanied by an adult. Dress for the weather\, majority of the program takes place outdoors. Registration required by the Monday before each session\, space is limited. Unless otherwise stated\, registration is required for all programs. Please note the deadlines and program location. To register\, email Jess at jessicaj@woodlanddunes.org or call 920-793-4007.
URL:https://www.woodlanddunes.org/calendar/raising-a-wild-child-snowflakes/
CATEGORIES:Children's Programs
END:VEVENT
BEGIN:VEVENT
DTSTART;TZID=America/Chicago:20250212T170000
DTEND;TZID=America/Chicago:20250212T170000
DTSTAMP:20260421T043622
CREATED:20250204T214820Z
LAST-MODIFIED:20250204T224342Z
UID:11835-1739379600-1739379600@www.woodlanddunes.org
SUMMARY:Sunset Walk & Full Moon Observation
DESCRIPTION:Enjoy a guided sunset walk and finish the day observing the rising of the full moon. \nMembers: Free \nNon-members: Sliding scale $3-$10/person (collected at walk). \nRegistration is required the Monday before the hike takes place\, as space is limited\, and meeting locations vary. To register\, email Jess at jessicaj@woodlanddunes.org or call 920-793-4007. \nHikes will be under a mile long unless specified. \n 
URL:https://www.woodlanddunes.org/calendar/sunset-walk-full-moon-observation/
CATEGORIES:Guided Walks
END:VEVENT
BEGIN:VEVENT
DTSTART;TZID=America/Chicago:20250208T090000
DTEND;TZID=America/Chicago:20250208T103000
DTSTAMP:20260421T043622
CREATED:20250204T224856Z
LAST-MODIFIED:20250204T225833Z
UID:12016-1739005200-1739010600@www.woodlanddunes.org
SUMMARY:Wild Wanderers: Opossums
DESCRIPTION:Members: $3/child \nNon-members: $4/child \nWild Wanderers is for children 5-8 years old and an adult. Calling all opossum lovers\, learn about the United States’ only marsupial mammal through stories\, games\, and activities! Portions of the program will be led by staff while others are self-guided. Dress for the weather – a majority of the program will take place outdoors. Registration is required by the Monday before each session\, space is limited. To register\, email Jess at jessicaj@woodlanddunes.org or call 920-793-4007.
URL:https://www.woodlanddunes.org/calendar/wild-wanderers-opossums/
CATEGORIES:Children's Programs
END:VEVENT
END:VCALENDAR