BEGIN:VCALENDAR
VERSION:2.0
PRODID:-//Woodland Dunes Nature Center &amp; Preserve - ECPv6.15.20//NONSGML v1.0//EN
CALSCALE:GREGORIAN
METHOD:PUBLISH
X-WR-CALNAME:Woodland Dunes Nature Center &amp; Preserve
X-ORIGINAL-URL:https://www.woodlanddunes.org
X-WR-CALDESC:Events for Woodland Dunes Nature Center &amp; Preserve
REFRESH-INTERVAL;VALUE=DURATION:PT1H
X-Robots-Tag:noindex
X-PUBLISHED-TTL:PT1H
BEGIN:VTIMEZONE
TZID:America/Chicago
BEGIN:DAYLIGHT
TZOFFSETFROM:-0600
TZOFFSETTO:-0500
TZNAME:CDT
DTSTART:20240310T080000
END:DAYLIGHT
BEGIN:STANDARD
TZOFFSETFROM:-0500
TZOFFSETTO:-0600
TZNAME:CST
DTSTART:20241103T070000
END:STANDARD
BEGIN:DAYLIGHT
TZOFFSETFROM:-0600
TZOFFSETTO:-0500
TZNAME:CDT
DTSTART:20250309T080000
END:DAYLIGHT
BEGIN:STANDARD
TZOFFSETFROM:-0500
TZOFFSETTO:-0600
TZNAME:CST
DTSTART:20251102T070000
END:STANDARD
BEGIN:DAYLIGHT
TZOFFSETFROM:-0600
TZOFFSETTO:-0500
TZNAME:CDT
DTSTART:20260308T080000
END:DAYLIGHT
BEGIN:STANDARD
TZOFFSETFROM:-0500
TZOFFSETTO:-0600
TZNAME:CST
DTSTART:20261101T070000
END:STANDARD
END:VTIMEZONE
BEGIN:VEVENT
DTSTART;TZID=America/Chicago:20250213T104500
DTEND;TZID=America/Chicago:20250213T120000
DTSTAMP:20260421T075057
CREATED:20250204T230002Z
LAST-MODIFIED:20250204T230002Z
UID:12021-1739443500-1739448000@www.woodlanddunes.org
SUMMARY:Raising a Wild Child: Snowflakes
DESCRIPTION:Members: $2/child \nNon-members: $3/child \nExperience the wonders of nature with your 2-5 year old through nature hikes\, play and guided activities. Help your child notice the natural world and ignite their curiosity! Children must be accompanied by an adult. Dress for the weather\, majority of the program takes place outdoors. Registration required by the Monday before each session\, space is limited. Unless otherwise stated\, registration is required for all programs. Please note the deadlines and program location. To register\, email Jess at jessicaj@woodlanddunes.org or call 920-793-4007.
URL:https://www.woodlanddunes.org/calendar/raising-a-wild-child-snowflakes/
CATEGORIES:Children's Programs
END:VEVENT
BEGIN:VEVENT
DTSTART;TZID=America/Chicago:20250212T170000
DTEND;TZID=America/Chicago:20250212T170000
DTSTAMP:20260421T075057
CREATED:20250204T214820Z
LAST-MODIFIED:20250204T224342Z
UID:11835-1739379600-1739379600@www.woodlanddunes.org
SUMMARY:Sunset Walk & Full Moon Observation
DESCRIPTION:Enjoy a guided sunset walk and finish the day observing the rising of the full moon. \nMembers: Free \nNon-members: Sliding scale $3-$10/person (collected at walk). \nRegistration is required the Monday before the hike takes place\, as space is limited\, and meeting locations vary. To register\, email Jess at jessicaj@woodlanddunes.org or call 920-793-4007. \nHikes will be under a mile long unless specified. \n 
URL:https://www.woodlanddunes.org/calendar/sunset-walk-full-moon-observation/
CATEGORIES:Guided Walks
END:VEVENT
BEGIN:VEVENT
DTSTART;TZID=America/Chicago:20250208T090000
DTEND;TZID=America/Chicago:20250208T103000
DTSTAMP:20260421T075057
CREATED:20250204T224856Z
LAST-MODIFIED:20250204T225833Z
UID:12016-1739005200-1739010600@www.woodlanddunes.org
SUMMARY:Wild Wanderers: Opossums
DESCRIPTION:Members: $3/child \nNon-members: $4/child \nWild Wanderers is for children 5-8 years old and an adult. Calling all opossum lovers\, learn about the United States’ only marsupial mammal through stories\, games\, and activities! Portions of the program will be led by staff while others are self-guided. Dress for the weather – a majority of the program will take place outdoors. Registration is required by the Monday before each session\, space is limited. To register\, email Jess at jessicaj@woodlanddunes.org or call 920-793-4007.
URL:https://www.woodlanddunes.org/calendar/wild-wanderers-opossums/
CATEGORIES:Children's Programs
END:VEVENT
END:VCALENDAR