BEGIN:VCALENDAR
VERSION:2.0
PRODID:-//Woodland Dunes Nature Center &amp; Preserve - ECPv6.15.20//NONSGML v1.0//EN
CALSCALE:GREGORIAN
METHOD:PUBLISH
X-ORIGINAL-URL:https://www.woodlanddunes.org
X-WR-CALDESC:Events for Woodland Dunes Nature Center &amp; Preserve
REFRESH-INTERVAL;VALUE=DURATION:PT1H
X-Robots-Tag:noindex
X-PUBLISHED-TTL:PT1H
BEGIN:VTIMEZONE
TZID:America/Chicago
BEGIN:DAYLIGHT
TZOFFSETFROM:-0600
TZOFFSETTO:-0500
TZNAME:CDT
DTSTART:20250309T080000
END:DAYLIGHT
BEGIN:STANDARD
TZOFFSETFROM:-0500
TZOFFSETTO:-0600
TZNAME:CST
DTSTART:20251102T070000
END:STANDARD
BEGIN:DAYLIGHT
TZOFFSETFROM:-0600
TZOFFSETTO:-0500
TZNAME:CDT
DTSTART:20260308T080000
END:DAYLIGHT
BEGIN:STANDARD
TZOFFSETFROM:-0500
TZOFFSETTO:-0600
TZNAME:CST
DTSTART:20261101T070000
END:STANDARD
BEGIN:DAYLIGHT
TZOFFSETFROM:-0600
TZOFFSETTO:-0500
TZNAME:CDT
DTSTART:20270314T080000
END:DAYLIGHT
BEGIN:STANDARD
TZOFFSETFROM:-0500
TZOFFSETTO:-0600
TZNAME:CST
DTSTART:20271107T070000
END:STANDARD
END:VTIMEZONE
BEGIN:VEVENT
DTSTART;TZID=America/Chicago:20260317T180000
DTEND;TZID=America/Chicago:20260317T190000
DTSTAMP:20260421T140337
CREATED:20260219T211836Z
LAST-MODIFIED:20260219T211836Z
UID:68213-1773770400-1773774000@www.woodlanddunes.org
SUMMARY:Adult Learning Series: Maple Syrup for Beginners
DESCRIPTION:Sliding scale fee of $3-$10 per person (collected at check-in\, cash is preferred). Registration required by Monday\, March 16th. Email jessicaj@woodlanddunes.org or call the nature center at 920-793-4007. \nLearn the basics of making your own maple syrup. We will cover the tools needed\, how to identify a maple tree and how to boil the sap to syrup. Learn from our staff and a backyard maple syrup maker and get a taste of this sweet backyard hobby. Please note\, we will not be actively making syrup during this program. \n  \n 
URL:https://www.woodlanddunes.org/calendar/adult-learning-series-maple-syrup-for-beginners/
CATEGORIES:Adult Programs
END:VEVENT
BEGIN:VEVENT
DTSTART;TZID=America/Chicago:20260318T120000
DTEND;TZID=America/Chicago:20260318T130000
DTSTAMP:20260421T140337
CREATED:20260130T173743Z
LAST-MODIFIED:20260130T173743Z
UID:68024-1773835200-1773838800@www.woodlanddunes.org
SUMMARY:Dunes' Digest: All of This & Robins Too: Wisconsin's Richness of Birds
DESCRIPTION:Sliding scale fee of $3-$10 per person\, collected at check-in (cash is preferred). Bring your own lunch and we will provide coffee\, tea\, water and a sweet treat. Registration is appreciated by Monday\, March 16th. To register please email jessicaj@woodlanddunes.org or call the nature center at 920-793-4007. \nBirds add to the quality of our lives in so many ways: they’re colorful\, they’re fascinating\, they eat bugs\, and they add music to our world. Wisconsin supports more than 400 species of wild birds\, but how well do you know them? Bird expert and Emmy-award-winning TV Journalist\, Steve Betchkal\, explores some amazing facts about birds – from migration to anatomy\, with a healthy dose of humor and conservation. \n 
URL:https://www.woodlanddunes.org/calendar/dunes-digest-all-of-this-robins-too-wisconsins-richness-of-birds/
CATEGORIES:Adult Programs
END:VEVENT
BEGIN:VEVENT
DTSTART;TZID=America/Chicago:20260320T090000
DTEND;TZID=America/Chicago:20260320T100000
DTSTAMP:20260421T140337
CREATED:20260130T173500Z
LAST-MODIFIED:20260130T173500Z
UID:68022-1773997200-1774000800@www.woodlanddunes.org
SUMMARY:Guided Walk: Is It Spring Yet?
DESCRIPTION:Members: Free \nNon-members: Sliding scale $3-$10/person \nTake an Equinox hike on one of our trails and observe the emerging details of Woodland Dunes. Trail TBD. Registration required the Monday by Monday\, March 16th\, as space is limited and meeting locations vary. Hikes will be under a mile long unless specified. Register by emailing jessicaj@woodlanddunes.org or call 920-793-4007.
URL:https://www.woodlanddunes.org/calendar/guided-walk-is-it-spring-yet/
CATEGORIES:Guided Walks
END:VEVENT
BEGIN:VEVENT
DTSTART;TZID=America/Chicago:20260321T100000
DTEND;TZID=America/Chicago:20260321T110000
DTSTAMP:20260421T140337
CREATED:20260130T174039Z
LAST-MODIFIED:20260130T174039Z
UID:68026-1774087200-1774090800@www.woodlanddunes.org
SUMMARY:Wild Families: The Magic of Maple Trees
DESCRIPTION:Members: $3/child \nNon-members: $4/child \nLearn about the magical inner workings of maple trees\, how they make their own food\, and taste one of the sweetest gifts from trees – maple syrup! Best for ages 6-12 years. Children must be accompanied by an adult. Dress for the weather – a majority of the program will take place outdoors. Registration is required by the Monday\, March 16th. Space is limited. Sponsored by the Green Bay Packers Foundation. Payment taken at program\, cash preferred. Register by emailing jessicaj@woodlanddunes.org or call the nature center at 920-793-4007
URL:https://www.woodlanddunes.org/calendar/wild-families-the-magic-of-maple-trees/
CATEGORIES:Children's Programs
END:VEVENT
BEGIN:VEVENT
DTSTART;TZID=America/Chicago:20260401T150000
DTEND;TZID=America/Chicago:20260401T160000
DTSTAMP:20260421T140337
CREATED:20260216T225510Z
LAST-MODIFIED:20260216T225510Z
UID:68183-1775055600-1775059200@www.woodlanddunes.org
SUMMARY:Guided Walk: Animal Riddles
DESCRIPTION:Members: Free \nNon-members: Sliding scale $3-$10/person \nI sleep during the day and fly at night…but have no feathers to help my flight…who am I? Join staff on a guided hike while they share some fun animal riddles. Trail TBD. Registration required the Monday by Monday\, March 30th\, as space is limited and meeting locations vary. Hikes will be under a mile long unless specified. Register by emailing jessicaj@woodlanddunes.org or call 920-793-4007.
URL:https://www.woodlanddunes.org/calendar/guided-walk-animal-riddles-2/
CATEGORIES:Guided Walks
END:VEVENT
BEGIN:VEVENT
DTSTART;TZID=America/Chicago:20260409T104500
DTEND;TZID=America/Chicago:20260409T120000
DTSTAMP:20260421T140337
CREATED:20260219T212412Z
LAST-MODIFIED:20260219T212412Z
UID:68219-1775731500-1775736000@www.woodlanddunes.org
SUMMARY:Raising a Wild Child: Turtles
DESCRIPTION:Members: $2/child \nNon-members: $3/child \nExperience the wonders of nature with your 2-5 year old through nature hikes\, play and guided activities. Help your child notice the natural world and ignite their curiosity! Children must be accompanied by an adult\, older siblings welcome in summer. Dress for the weather\, majority of the program takes place outdoors. Sponsored by the Green Bay Packers Foundation. Registration required by the Monday April 6th\, space is limited. Call 920-793-4007 or email jessicaj@woodlanddunes.org.
URL:https://www.woodlanddunes.org/calendar/raising-a-wild-child-turtles/
CATEGORIES:Children's Programs
END:VEVENT
BEGIN:VEVENT
DTSTART;TZID=America/Chicago:20260411T100000
DTEND;TZID=America/Chicago:20260411T110000
DTSTAMP:20260421T140337
CREATED:20260219T211608Z
LAST-MODIFIED:20260219T211608Z
UID:68211-1775901600-1775905200@www.woodlanddunes.org
SUMMARY:Wild Families: Spring Family Hike
DESCRIPTION:Members: $3/child \nNon-members: $4/child \nEnjoy the sights and sounds of spring on a guided family-friendly hike down Black Cherry Trail. Bring a backpack\, extra layer\, and a water bottle. We recommend wearing tennis shoes/hiking shoes and be prepared for slightly uneven and potentially muddy ground. Hike is 0.8 miles. Best for ages 6-12 years. Children must be accompanied by an adult. Dress for the weather – a majority of the program will take place outdoors. Registration is required by the Monday\, April 6th. Space is limited. Sponsored by the Green Bay Packers Foundation. Payment taken at program\, cash preferred. Register by emailing jessicaj@woodlanddunes.org or call the nature center at 920-793-4007
URL:https://www.woodlanddunes.org/calendar/wild-families-spring-family-hike/
CATEGORIES:Children's Programs
END:VEVENT
BEGIN:VEVENT
DTSTART;TZID=America/Chicago:20260415T120000
DTEND;TZID=America/Chicago:20260415T130000
DTSTAMP:20260421T140337
CREATED:20260219T212959Z
LAST-MODIFIED:20260219T212959Z
UID:68226-1776254400-1776258000@www.woodlanddunes.org
SUMMARY:Dunes' Digest: Wisconsin Moths
DESCRIPTION:Sliding scale fee of $3-$10 per person\, collected at check-in (cash is preferred). Bring your own lunch and we will provide coffee\, tea\, water and a sweet treat. Registration is appreciated by Monday\, April 13th. To register please email jessicaj@woodlanddunes.org or call the nature center at 920-793-4007. \nWisconsin moths are an important insect in our ecosystem. Join Kyle Johnson\, entomologist for the Minnesota Biological Survey to learn about moth diversity\, how to find them\, and conservation concerns. 
URL:https://www.woodlanddunes.org/calendar/dunes-digest-wisconsin-moths/
CATEGORIES:Adult Programs
END:VEVENT
BEGIN:VEVENT
DTSTART;TZID=America/Chicago:20260416T191500
DTEND;TZID=America/Chicago:20260416T201500
DTSTAMP:20260421T140337
CREATED:20260219T212048Z
LAST-MODIFIED:20260219T212048Z
UID:68215-1776366900-1776370500@www.woodlanddunes.org
SUMMARY:Adult Learning Series: Timberdoodle Observation
DESCRIPTION:Sliding scale fee of $3-$10 per person (collected at check-in\, cash is preferred). Registration required by Monday\, April 13th. Email jessicaj@woodlanddunes.org or call the nature center at 920-793-4007. \nSearch for the sky-dancing American Woodcock and witness its elaborate courtship displays. After\, look at stars\, constellations and more through the telescope. The program is weather dependent.
URL:https://www.woodlanddunes.org/calendar/adult-learning-series-timberdoodle-observation/
CATEGORIES:Adult Programs
END:VEVENT
BEGIN:VEVENT
DTSTART;TZID=America/Chicago:20260422T173000
DTEND;TZID=America/Chicago:20260422T183000
DTSTAMP:20260421T140337
CREATED:20260216T225727Z
LAST-MODIFIED:20260303T180035Z
UID:68185-1776879000-1776882600@www.woodlanddunes.org
SUMMARY:FULL:Guided Walk: Forget Me Not Creek
DESCRIPTION:Members: Free \nNon-members: Sliding scale $3-$10/person \nTake a tour of the newly restored Forget-me-not Creek project with our director Sue Crowley and fisheries biologist Titus Seilheimer. Registration is closed\, this program is full. Hikes will be under a mile long unless specified. Register by emailing jessicaj@woodlanddunes.org or call 920-793-4007.
URL:https://www.woodlanddunes.org/calendar/guided-walk-forget-me-not-creek/
CATEGORIES:Guided Walks
END:VEVENT
BEGIN:VEVENT
DTSTART;TZID=America/Chicago:20260507T090000
DTEND;TZID=America/Chicago:20260507T100000
DTSTAMP:20260421T140337
CREATED:20260219T211044Z
LAST-MODIFIED:20260219T211044Z
UID:68205-1778144400-1778148000@www.woodlanddunes.org
SUMMARY:Guided Walk: Morning Hike on Black Cherry Trail
DESCRIPTION:Members: Free \nNon-members: Sliding scale $3-$10/person \nEnjoy a peaceful morning hike along Black Cherry Trail. Registration required by Monday\, May 5th\, as space is limited and meeting locations vary. Hikes will be under a mile long unless specified. Register by emailing jessicaj@woodlanddunes.org or call 920-793-4007.
URL:https://www.woodlanddunes.org/calendar/guided-walk-morning-hike-on-black-cherry-trail/
CATEGORIES:Guided Walks
END:VEVENT
BEGIN:VEVENT
DTSTART;TZID=America/Chicago:20260509T213000
DTEND;TZID=America/Chicago:20260509T223000
DTSTAMP:20260421T140337
CREATED:20260219T212731Z
LAST-MODIFIED:20260219T212731Z
UID:68223-1778362200-1778365800@www.woodlanddunes.org
SUMMARY:Spring Star Party
DESCRIPTION:View night sky constellations with astronomers Al and Ben\, along with the moon and other celestial objects through the big telescope in the Sky Shed. You can even bring your own telescope if you need help figuring out how to set it up. Weather and sky conditions permitting. Program takes place outside the Nature Center. Registration required by the Thursday\, May 7th. To register\, email jessicaj@woodlanddunes.org or call 920-793-4007.
URL:https://www.woodlanddunes.org/calendar/spring-star-party-2/
CATEGORIES:Programs for Everyone
END:VEVENT
BEGIN:VEVENT
DTSTART;TZID=America/Chicago:20260513T130000
DTEND;TZID=America/Chicago:20260513T140000
DTSTAMP:20260421T140337
CREATED:20260219T212202Z
LAST-MODIFIED:20260219T212202Z
UID:68217-1778677200-1778680800@www.woodlanddunes.org
SUMMARY:Adult Learning Series: American Kestrels & Nextbox Research in Wisconsin
DESCRIPTION:Sliding scale fee of $3-$10 per person (collected at check-in\, cash is preferred). Registration required by Monday\, May 11th. Email jessicaj@woodlanddunes.org or call the nature center at 920-793-4007. \nAmerican Kestrels are North America’s smallest and most colorful falcon\, but have been declining steadily over the last three decades. Danny Erickson\, a wildlife biologist and master’s student at the University of Wisconsin-Green Bay\, will discuss this bird’s natural history\, research\, and conservation efforts across Wisconsin. He partners with many citizen scientists\, state and local conservation agencies\, and stalwart kestrel enthusiasts installing nestboxes to help monitor and conserve this icon of our grasslands. After an indoor presentation\, optional field trip to the preserve to look for this bird.
URL:https://www.woodlanddunes.org/calendar/adult-learning-series-american-kestrels-nextbox-research-in-wisconsin/
CATEGORIES:Adult Programs
END:VEVENT
BEGIN:VEVENT
DTSTART;TZID=America/Chicago:20260514T104500
DTEND;TZID=America/Chicago:20260514T120000
DTSTAMP:20260421T140337
CREATED:20260219T212510Z
LAST-MODIFIED:20260219T212510Z
UID:68221-1778755500-1778760000@www.woodlanddunes.org
SUMMARY:Raising a Wild Child: Nature Hike
DESCRIPTION:Members: $2/child \nNon-members: $3/child \nExperience the wonders of nature with your 2-5 year old through nature hikes\, play and guided activities. Help your child notice the natural world and ignite their curiosity! Children must be accompanied by an adult\, older siblings welcome in summer. Dress for the weather\, majority of the program takes place outdoors. Sponsored by the Green Bay Packers Foundation. Registration required by the Monday May 11th\, space is limited. Call 920-793-4007 or email jessicaj@woodlanddunes.org.
URL:https://www.woodlanddunes.org/calendar/raising-a-wild-child-nature-hike/
CATEGORIES:Children's Programs
END:VEVENT
BEGIN:VEVENT
DTSTART;TZID=America/Chicago:20260516T080000
DTEND;TZID=America/Chicago:20260516T110000
DTSTAMP:20260421T140337
CREATED:20260130T174446Z
LAST-MODIFIED:20260130T174446Z
UID:68029-1778918400-1778929200@www.woodlanddunes.org
SUMMARY:Bird Breakfast & Migration Celebration
DESCRIPTION:8:00-11:00am\nMembers: $7/person\nNon-members: $9/person\nKids under 4\, free\nCelebrate World Migratory Bird Day and the return of many of our migratory songbirds! Guided bird hikes will be available throughout the morning (please register for the 7am and 8am hikes starting April 27th) and self-guided activities for families will be available. We will also be offering a delicious ham and pancake breakfast. Our friends from Barnwood Coffee Company will also be here serving their certified bird-friendly coffee. Reservations and details about the breakfast and guided bird hikes will be available on Monday\, April 27th.
URL:https://www.woodlanddunes.org/calendar/bird-breakfast-migration-celebration-2/
CATEGORIES:Programs for Everyone
END:VEVENT
BEGIN:VEVENT
DTSTART;TZID=America/Chicago:20260523T070000
DTEND;TZID=America/Chicago:20260523T080000
DTSTAMP:20260421T140337
CREATED:20260219T213217Z
LAST-MODIFIED:20260219T213217Z
UID:68228-1779519600-1779523200@www.woodlanddunes.org
SUMMARY:Saturday Morning Bird Walk
DESCRIPTION:Free for all  \nJoin local birder\, Joel Trick\, for a guided bird walk along the trails at Woodland Dunes. Look and listen for migrants and resident birds during the spring migration. Bring your binoculars and register by Thursday\, May 21st. Space is limited\, so register early! The walk will last at least one hour\, but may be longer if the birding is good. Meeting location will be determined closer to the date of the walk. Program is weather dependent. To register email Jess at jessicaj@woodlanddunes.org or call 920-793-4007.  \n 
URL:https://www.woodlanddunes.org/calendar/saturday-morning-bird-walk-3/
CATEGORIES:Guided Walks
END:VEVENT
BEGIN:VEVENT
DTSTART;TZID=America/Chicago:20260527T173000
DTEND;TZID=America/Chicago:20260527T183000
DTSTAMP:20260421T140337
CREATED:20260219T211247Z
LAST-MODIFIED:20260413T203103Z
UID:68208-1779903000-1779906600@www.woodlanddunes.org
SUMMARY:FULL: Guided Walk: Woodland Wildflower Walk
DESCRIPTION:Members: Free \nNon-members: Sliding scale $3-$10/person \nThis program is full\, registration is closed. Stroll through the forest and look for spring wildflowers. Hike will be under a mile long unless specified. Register by emailing jessicaj@woodlanddunes.org or call 920-793-4007.
URL:https://www.woodlanddunes.org/calendar/guided-walk-woodland-wildflower-walk/
CATEGORIES:Guided Walks
END:VEVENT
BEGIN:VEVENT
DTSTART;TZID=America/Chicago:20261003T163000
DTEND;TZID=America/Chicago:20261003T193000
DTSTAMP:20260421T140337
CREATED:20260130T174746Z
LAST-MODIFIED:20260130T174928Z
UID:68031-1791045000-1791055800@www.woodlanddunes.org
SUMMARY:Enchanted Forest
DESCRIPTION:More info available closer to the date of the event.\nJourney along a candlelit trail and meet some of Mother Nature’s misunderstood (costumed) animals and learn why they are important in nature. This is an educational evening\, not a scary one. Non-scary costumes and warm clothes are encouraged. Space is limited\, group sizes are kept small. Timeslots start at 4:30pm and are offered every 10 minutes.
URL:https://www.woodlanddunes.org/calendar/enchanted-forest-2/
CATEGORIES:Children's Programs
END:VEVENT
END:VCALENDAR